BEGIN:VCALENDAR
VERSION:2.0
PRODID:-//St. Patrick Catholic Church - ECPv6.15.20//NONSGML v1.0//EN
CALSCALE:GREGORIAN
METHOD:PUBLISH
X-ORIGINAL-URL:https://stpatricksgretna.org
X-WR-CALDESC:Events for St. Patrick Catholic Church
REFRESH-INTERVAL;VALUE=DURATION:PT1H
X-Robots-Tag:noindex
X-PUBLISHED-TTL:PT1H
BEGIN:VTIMEZONE
TZID:America/Chicago
BEGIN:DAYLIGHT
TZOFFSETFROM:-0600
TZOFFSETTO:-0500
TZNAME:CDT
DTSTART:20250309T080000
END:DAYLIGHT
BEGIN:STANDARD
TZOFFSETFROM:-0500
TZOFFSETTO:-0600
TZNAME:CST
DTSTART:20251102T070000
END:STANDARD
BEGIN:DAYLIGHT
TZOFFSETFROM:-0600
TZOFFSETTO:-0500
TZNAME:CDT
DTSTART:20260308T080000
END:DAYLIGHT
BEGIN:STANDARD
TZOFFSETFROM:-0500
TZOFFSETTO:-0600
TZNAME:CST
DTSTART:20261101T070000
END:STANDARD
BEGIN:DAYLIGHT
TZOFFSETFROM:-0600
TZOFFSETTO:-0500
TZNAME:CDT
DTSTART:20270314T080000
END:DAYLIGHT
BEGIN:STANDARD
TZOFFSETFROM:-0500
TZOFFSETTO:-0600
TZNAME:CST
DTSTART:20271107T070000
END:STANDARD
END:VTIMEZONE
BEGIN:VEVENT
DTSTART;TZID=America/Chicago:20260303T090000
DTEND;TZID=America/Chicago:20260303T100000
DTSTAMP:20260420T103421
CREATED:20250606T164638Z
LAST-MODIFIED:20250606T164638Z
UID:10082995-1772528400-1772532000@stpatricksgretna.org
SUMMARY:Amazing Athletes/BS
DESCRIPTION:Amazing Athletes for Preschoolers
URL:https://stpatricksgretna.org/event/amazing-athletes-bs-2/2026-03-03/
LOCATION:Basement Common Area (BS)\, 508 Angus St\, Gretna\, NE\, 68028\, United States
ORGANIZER;CN="Amanda Scardina- Preschool Director":MAILTO:acscardina@archomaha.org
END:VEVENT
BEGIN:VEVENT
DTSTART;TZID=America/Chicago:20260303T103000
DTEND;TZID=America/Chicago:20260303T160000
DTSTAMP:20260420T103421
CREATED:20260212T153144Z
LAST-MODIFIED:20260212T153144Z
UID:10085344-1772533800-1772553600@stpatricksgretna.org
SUMMARY:Linus/Basement Commons
DESCRIPTION:
URL:https://stpatricksgretna.org/event/linus-basement-commons-6/
LOCATION:Basement Commons (BS)\, Gretna
ORGANIZER;CN="Judy Weier - Secretary":MAILTO:jaweier@archomaha.org
END:VEVENT
BEGIN:VEVENT
DTSTART;TZID=America/Chicago:20260303T130000
DTEND;TZID=America/Chicago:20260303T143000
DTSTAMP:20260420T103421
CREATED:20260113T221107Z
LAST-MODIFIED:20260114T143955Z
UID:10085005-1772542800-1772548200@stpatricksgretna.org
SUMMARY:Bible Study Group/H
DESCRIPTION:Reserved by Christa Pichler
URL:https://stpatricksgretna.org/event/small-group-h/2026-03-03/
LOCATION:Father Hitch Room (H)
ORGANIZER;CN="Megan Seamann - Communications Associate":MAILTO:meseamann@archomaha.org
END:VEVENT
BEGIN:VEVENT
DTSTART;TZID=America/Chicago:20260303T180000
DTEND;TZID=America/Chicago:20260303T190000
DTSTAMP:20260420T103421
CREATED:20200220T221058Z
LAST-MODIFIED:20240717T210236Z
UID:10008657-1772560800-1772564400@stpatricksgretna.org
SUMMARY:KofC Holy Hour of Prayer/Sanctuary
DESCRIPTION:Join the Knights of Columbus Gretna Council in the Sanctuary for a Holy Hour of Prayer with a Rosary at 6:30 PM
URL:https://stpatricksgretna.org/event/kofc-holy-hour-of-prayer-sanctuary/2026-03-03/
LOCATION:Sanctuary (S)
CATEGORIES:Sanctuary
ORGANIZER;CN="Jolene Jefferies - Parish Manager":MAILTO:jmjefferies@archomaha.org
END:VEVENT
BEGIN:VEVENT
DTSTART;TZID=America/Chicago:20260303T183000
DTEND;TZID=America/Chicago:20260303T200000
DTSTAMP:20260420T103421
CREATED:20260302T155436Z
LAST-MODIFIED:20260302T155436Z
UID:10085383-1772562600-1772568000@stpatricksgretna.org
SUMMARY:Women's Small Group Leader Mtg/H
DESCRIPTION:Requested by Barb Applegate
URL:https://stpatricksgretna.org/event/womens-small-group-leader-mtg-h-2/
LOCATION:Father Hitch Room (H)
ORGANIZER;CN="Megan Seamann - Communications Associate":MAILTO:meseamann@archomaha.org
END:VEVENT
BEGIN:VEVENT
DTSTART;TZID=America/Chicago:20260303T190000
DTEND;TZID=America/Chicago:20260303T210000
DTSTAMP:20260420T103421
CREATED:20250710T194753Z
LAST-MODIFIED:20250710T194753Z
UID:10083323-1772564400-1772571600@stpatricksgretna.org
SUMMARY:KC Monthly Meeting in PCA/PCB
DESCRIPTION:
URL:https://stpatricksgretna.org/event/kc-monthly-meeting-in-pca-pcb-2/2026-03-03/
LOCATION:Parish Center A / B / Kitchen (PCAB/K)\, 508 Angus St\, Gretna\, NE\, 68028\, United States
ORGANIZER;CN="Lezlie Thomas - Facility Coordinator":MAILTO:lathomas@archomaha.org
END:VEVENT
END:VCALENDAR