BEGIN:VCALENDAR
VERSION:2.0
PRODID:-//St. Patrick Catholic Church - ECPv6.15.20//NONSGML v1.0//EN
CALSCALE:GREGORIAN
METHOD:PUBLISH
X-ORIGINAL-URL:https://stpatricksgretna.org
X-WR-CALDESC:Events for St. Patrick Catholic Church
REFRESH-INTERVAL;VALUE=DURATION:PT1H
X-Robots-Tag:noindex
X-PUBLISHED-TTL:PT1H
BEGIN:VTIMEZONE
TZID:America/Chicago
BEGIN:DAYLIGHT
TZOFFSETFROM:-0600
TZOFFSETTO:-0500
TZNAME:CDT
DTSTART:20250309T080000
END:DAYLIGHT
BEGIN:STANDARD
TZOFFSETFROM:-0500
TZOFFSETTO:-0600
TZNAME:CST
DTSTART:20251102T070000
END:STANDARD
BEGIN:DAYLIGHT
TZOFFSETFROM:-0600
TZOFFSETTO:-0500
TZNAME:CDT
DTSTART:20260308T080000
END:DAYLIGHT
BEGIN:STANDARD
TZOFFSETFROM:-0500
TZOFFSETTO:-0600
TZNAME:CST
DTSTART:20261101T070000
END:STANDARD
BEGIN:DAYLIGHT
TZOFFSETFROM:-0600
TZOFFSETTO:-0500
TZNAME:CDT
DTSTART:20270314T080000
END:DAYLIGHT
BEGIN:STANDARD
TZOFFSETFROM:-0500
TZOFFSETTO:-0600
TZNAME:CST
DTSTART:20271107T070000
END:STANDARD
END:VTIMEZONE
BEGIN:VEVENT
DTSTART;TZID=America/Chicago:20260415T080000
DTEND;TZID=America/Chicago:20260415T093000
DTSTAMP:20260420T092333
CREATED:20200219T194906Z
LAST-MODIFIED:20230517T140921Z
UID:10006620-1776240000-1776245400@stpatricksgretna.org
SUMMARY:55+ Club Outing
DESCRIPTION:55+ Club Outing
URL:https://stpatricksgretna.org/event/55-club-outing/2026-04-15/
LOCATION:Offsite\, 508 Angus St\, Gretna\, NE\, 68028\, United States
END:VEVENT
BEGIN:VEVENT
DTSTART;TZID=America/Chicago:20260415T080000
DTEND;TZID=America/Chicago:20260415T170000
DTSTAMP:20260420T092333
CREATED:20250319T193042Z
LAST-MODIFIED:20250319T193042Z
UID:10010121-1776240000-1776272400@stpatricksgretna.org
SUMMARY:KC Food Prep in Kitchen
DESCRIPTION:
URL:https://stpatricksgretna.org/event/kc-food-prep-in-kitchen/2026-04-15/
LOCATION:Kitchen (K)\, 508 Angus St\, Gretna\, NE\, 68028\, United States
ORGANIZER;CN="Lezlie Thomas - Facility Coordinator":MAILTO:lathomas@archomaha.org
END:VEVENT
BEGIN:VEVENT
DTSTART;TZID=America/Chicago:20260415T080000
DTEND;TZID=America/Chicago:20260415T170000
DTSTAMP:20260420T092333
CREATED:20250319T193304Z
LAST-MODIFIED:20250319T193304Z
UID:10010133-1776240000-1776272400@stpatricksgretna.org
SUMMARY:KC Storage in PCC
DESCRIPTION:
URL:https://stpatricksgretna.org/event/kc-storage-in-pcc/2026-04-15/
LOCATION:Parish Center C (PCC)\, 508 Angus St\, Gretna\, NE\, 68028\, United States
ORGANIZER;CN="Lezlie Thomas - Facility Coordinator":MAILTO:lathomas@archomaha.org
END:VEVENT
BEGIN:VEVENT
DTSTART;TZID=America/Chicago:20260415T083000
DTEND;TZID=America/Chicago:20260415T110000
DTSTAMP:20260420T092333
CREATED:20260128T172119Z
LAST-MODIFIED:20260128T172122Z
UID:10085078-1776241800-1776250800@stpatricksgretna.org
SUMMARY:Faith Connection/H
DESCRIPTION: 
URL:https://stpatricksgretna.org/event/ladies-prayer-group-h-3/2026-04-15/
LOCATION:Parish Center C (PCC)\, 508 Angus St\, Gretna\, NE\, 68028\, United States
ORGANIZER;CN="Megan Seamann - Communications Associate":MAILTO:meseamann@archomaha.org
END:VEVENT
BEGIN:VEVENT
DTSTART;TZID=America/Chicago:20260415T130000
DTEND;TZID=America/Chicago:20260415T143000
DTSTAMP:20260420T092333
CREATED:20250731T142843Z
LAST-MODIFIED:20250731T142843Z
UID:10083513-1776258000-1776263400@stpatricksgretna.org
SUMMARY:Women's Small Group/H
DESCRIPTION:
URL:https://stpatricksgretna.org/event/womens-small-group-h-5/2026-04-15/
LOCATION:Father Hitch Room (H)
ORGANIZER;CN="Judy Weier - Secretary":MAILTO:jaweier@archomaha.org
END:VEVENT
BEGIN:VEVENT
DTSTART;TZID=America/Chicago:20260415T160000
DTEND;TZID=America/Chicago:20260415T200000
DTSTAMP:20260420T092333
CREATED:20250721T141621Z
LAST-MODIFIED:20250721T141621Z
UID:10083382-1776268800-1776283200@stpatricksgretna.org
SUMMARY:Religious Ed Classes
DESCRIPTION:Classes at 4:00\, 5:30\, & 7:00
URL:https://stpatricksgretna.org/event/religious-ed-classes/2026-04-15/
LOCATION:Basement Commons / RE Classrooms / Youth Group Room (BS/RE/YG)\, Gretna\, NE\, United States
ORGANIZER;CN="Shane Fagan - Religious Education":MAILTO:smfagan@archomaha.org
END:VEVENT
BEGIN:VEVENT
DTSTART;TZID=America/Chicago:20260415T190000
DTEND;TZID=America/Chicago:20260415T203000
DTSTAMP:20260420T092333
CREATED:20250805T143453Z
LAST-MODIFIED:20250805T143453Z
UID:10083575-1776279600-1776285000@stpatricksgretna.org
SUMMARY:Youth Group/YG
DESCRIPTION:
URL:https://stpatricksgretna.org/event/youth-group-yg/2026-04-15/
LOCATION:Youth Group Room (YG)\, 508 Angus St\, Gretna\, NE\, 68028\, United States
ORGANIZER;CN="Megan Seamann - Communications Associate":MAILTO:meseamann@archomaha.org
END:VEVENT
END:VCALENDAR