BEGIN:VCALENDAR
VERSION:2.0
PRODID:-//St. Patrick Catholic Church - ECPv6.15.20//NONSGML v1.0//EN
CALSCALE:GREGORIAN
METHOD:PUBLISH
X-WR-CALNAME:St. Patrick Catholic Church
X-ORIGINAL-URL:https://stpatricksgretna.org
X-WR-CALDESC:Events for St. Patrick Catholic Church
REFRESH-INTERVAL;VALUE=DURATION:PT1H
X-Robots-Tag:noindex
X-PUBLISHED-TTL:PT1H
BEGIN:VTIMEZONE
TZID:America/Chicago
BEGIN:DAYLIGHT
TZOFFSETFROM:-0600
TZOFFSETTO:-0500
TZNAME:CDT
DTSTART:20250309T080000
END:DAYLIGHT
BEGIN:STANDARD
TZOFFSETFROM:-0500
TZOFFSETTO:-0600
TZNAME:CST
DTSTART:20251102T070000
END:STANDARD
BEGIN:DAYLIGHT
TZOFFSETFROM:-0600
TZOFFSETTO:-0500
TZNAME:CDT
DTSTART:20260308T080000
END:DAYLIGHT
BEGIN:STANDARD
TZOFFSETFROM:-0500
TZOFFSETTO:-0600
TZNAME:CST
DTSTART:20261101T070000
END:STANDARD
BEGIN:DAYLIGHT
TZOFFSETFROM:-0600
TZOFFSETTO:-0500
TZNAME:CDT
DTSTART:20270314T080000
END:DAYLIGHT
BEGIN:STANDARD
TZOFFSETFROM:-0500
TZOFFSETTO:-0600
TZNAME:CST
DTSTART:20271107T070000
END:STANDARD
END:VTIMEZONE
BEGIN:VEVENT
DTSTART;TZID=America/Chicago:20260616T090000
DTEND;TZID=America/Chicago:20260616T160000
DTSTAMP:20260419T115308
CREATED:20251002T141615Z
LAST-MODIFIED:20251002T141615Z
UID:10084305-1781600400-1781625600@stpatricksgretna.org
SUMMARY:Linus/Basement Commons
DESCRIPTION:
URL:https://stpatricksgretna.org/event/linus-basement-commons-2/2026-06-16/
LOCATION:Basement Commons (BS)\, Gretna
ORGANIZER;CN="Judy Weier - Secretary":MAILTO:jaweier@archomaha.org
END:VEVENT
BEGIN:VEVENT
DTSTART;TZID=America/Chicago:20260616T100000
DTEND;TZID=America/Chicago:20260616T110000
DTSTAMP:20260419T115308
CREATED:20250325T152600Z
LAST-MODIFIED:20250325T152922Z
UID:10010160-1781604000-1781607600@stpatricksgretna.org
SUMMARY:Rosary Guild/H
DESCRIPTION: 
URL:https://stpatricksgretna.org/event/rosary-guild-h-2-2/2026-06-16/
LOCATION:Father Hitch Room (H)
END:VEVENT
END:VCALENDAR