BEGIN:VCALENDAR
VERSION:2.0
PRODID:-//St. Patrick Catholic Church - ECPv6.15.20//NONSGML v1.0//EN
CALSCALE:GREGORIAN
METHOD:PUBLISH
X-WR-CALNAME:St. Patrick Catholic Church
X-ORIGINAL-URL:https://stpatricksgretna.org
X-WR-CALDESC:Events for St. Patrick Catholic Church
REFRESH-INTERVAL;VALUE=DURATION:PT1H
X-Robots-Tag:noindex
X-PUBLISHED-TTL:PT1H
BEGIN:VTIMEZONE
TZID:America/Chicago
BEGIN:DAYLIGHT
TZOFFSETFROM:-0600
TZOFFSETTO:-0500
TZNAME:CDT
DTSTART:20250309T080000
END:DAYLIGHT
BEGIN:STANDARD
TZOFFSETFROM:-0500
TZOFFSETTO:-0600
TZNAME:CST
DTSTART:20251102T070000
END:STANDARD
BEGIN:DAYLIGHT
TZOFFSETFROM:-0600
TZOFFSETTO:-0500
TZNAME:CDT
DTSTART:20260308T080000
END:DAYLIGHT
BEGIN:STANDARD
TZOFFSETFROM:-0500
TZOFFSETTO:-0600
TZNAME:CST
DTSTART:20261101T070000
END:STANDARD
BEGIN:DAYLIGHT
TZOFFSETFROM:-0600
TZOFFSETTO:-0500
TZNAME:CDT
DTSTART:20270314T080000
END:DAYLIGHT
BEGIN:STANDARD
TZOFFSETFROM:-0500
TZOFFSETTO:-0600
TZNAME:CST
DTSTART:20271107T070000
END:STANDARD
END:VTIMEZONE
BEGIN:VEVENT
DTSTART;TZID=America/Chicago:20260626T063000
DTEND;TZID=America/Chicago:20260626T073000
DTSTAMP:20260419T131355
CREATED:20250306T174317Z
LAST-MODIFIED:20250306T174318Z
UID:10009604-1782455400-1782459000@stpatricksgretna.org
SUMMARY:Men's Faith Sharing/H
DESCRIPTION:
URL:https://stpatricksgretna.org/event/mens-faith-sharing-h/2026-06-26/
LOCATION:NE
END:VEVENT
BEGIN:VEVENT
DTSTART;TZID=America/Chicago:20260626T080000
DTEND;TZID=America/Chicago:20260626T100000
DTSTAMP:20260419T131355
CREATED:20250306T174409Z
LAST-MODIFIED:20250306T174410Z
UID:10009865-1782460800-1782468000@stpatricksgretna.org
SUMMARY:Women's Faith Sharing/H
DESCRIPTION:
URL:https://stpatricksgretna.org/event/womens-faith-sharing-h/2026-06-26/
LOCATION:NE
END:VEVENT
BEGIN:VEVENT
DTSTART;TZID=America/Chicago:20260626T170000
DTEND;TZID=America/Chicago:20260626T190000
DTSTAMP:20260419T131355
CREATED:20250203T165239Z
LAST-MODIFIED:20250203T165239Z
UID:10009477-1782493200-1782500400@stpatricksgretna.org
SUMMARY:Wedding Rehearsal/N/S
DESCRIPTION:
URL:https://stpatricksgretna.org/event/wedding-rehearsal-n-s-5/
LOCATION:Sanctuary / Narthex (S/N)\, 508 Angus St\, Gretna\, NE\, 68028\, United States
END:VEVENT
END:VCALENDAR