BEGIN:VCALENDAR
VERSION:2.0
PRODID:-//St. Patrick Catholic Church - ECPv6.15.20//NONSGML v1.0//EN
CALSCALE:GREGORIAN
METHOD:PUBLISH
X-ORIGINAL-URL:https://stpatricksgretna.org
X-WR-CALDESC:Events for St. Patrick Catholic Church
REFRESH-INTERVAL;VALUE=DURATION:PT1H
X-Robots-Tag:noindex
X-PUBLISHED-TTL:PT1H
BEGIN:VTIMEZONE
TZID:America/Chicago
BEGIN:DAYLIGHT
TZOFFSETFROM:-0600
TZOFFSETTO:-0500
TZNAME:CDT
DTSTART:20250309T080000
END:DAYLIGHT
BEGIN:STANDARD
TZOFFSETFROM:-0500
TZOFFSETTO:-0600
TZNAME:CST
DTSTART:20251102T070000
END:STANDARD
BEGIN:DAYLIGHT
TZOFFSETFROM:-0600
TZOFFSETTO:-0500
TZNAME:CDT
DTSTART:20260308T080000
END:DAYLIGHT
BEGIN:STANDARD
TZOFFSETFROM:-0500
TZOFFSETTO:-0600
TZNAME:CST
DTSTART:20261101T070000
END:STANDARD
BEGIN:DAYLIGHT
TZOFFSETFROM:-0600
TZOFFSETTO:-0500
TZNAME:CDT
DTSTART:20270314T080000
END:DAYLIGHT
BEGIN:STANDARD
TZOFFSETFROM:-0500
TZOFFSETTO:-0600
TZNAME:CST
DTSTART:20271107T070000
END:STANDARD
END:VTIMEZONE
BEGIN:VEVENT
DTSTART;VALUE=DATE:20260106
DTEND;VALUE=DATE:20260201
DTSTAMP:20260425T061028
CREATED:20250911T210618Z
LAST-MODIFIED:20260123T204325Z
UID:10084272-1767657600-1769903999@stpatricksgretna.org
SUMMARY:Church Directory Photos Being Taken/PCC
DESCRIPTION:Photography dates: \nJanuary 6-10 \nJanuary 20-24 \nJanuary 27-31 \nTuesday – Friday times are from 2:00 PM to 8:30 PM. Saturday times are from 10:30 AM to 5 PM. \nTo schedule your family photography session online\, simply go to www.ucdir.com\, click on photography appointment scheduling login on the right side\, enter ne293 in the Church Code field and enter photos in the Church Password field. Follow the prompts to schedule your family’s appointment time. If you have 6 or more in your family please use 2 consecutive time slots. The online scheduling option is available Monday through Friday. Appointments fill up quickly\, so schedule as soon as possible to secure your preferred date and time.
URL:https://stpatricksgretna.org/event/tentative-church-directory-photos-pc/
LOCATION:Parish Center C (PCC)\, 508 Angus St\, Gretna\, NE\, 68028\, United States
ORGANIZER;CN="Megan Seamann - Communications Associate":MAILTO:meseamann@archomaha.org
END:VEVENT
BEGIN:VEVENT
DTSTART;TZID=America/Chicago:20260130T063000
DTEND;TZID=America/Chicago:20260130T073000
DTSTAMP:20260425T061028
CREATED:20250306T174317Z
LAST-MODIFIED:20250306T174318Z
UID:10009583-1769754600-1769758200@stpatricksgretna.org
SUMMARY:Men's Faith Sharing/H
DESCRIPTION:
URL:https://stpatricksgretna.org/event/mens-faith-sharing-h/2026-01-30/
END:VEVENT
BEGIN:VEVENT
DTSTART;TZID=America/Chicago:20260130T080000
DTEND;TZID=America/Chicago:20260130T100000
DTSTAMP:20260425T061028
CREATED:20250306T174409Z
LAST-MODIFIED:20250306T174410Z
UID:10009844-1769760000-1769767200@stpatricksgretna.org
SUMMARY:Women's Faith Sharing/H
DESCRIPTION:
URL:https://stpatricksgretna.org/event/womens-faith-sharing-h/2026-01-30/
END:VEVENT
BEGIN:VEVENT
DTSTART;TZID=America/Chicago:20260131T080000
DTEND;TZID=America/Chicago:20260131T100000
DTSTAMP:20260425T061028
CREATED:20250805T205833Z
LAST-MODIFIED:20250805T212929Z
UID:10083834-1769846400-1769853600@stpatricksgretna.org
SUMMARY:Knights Officer Mtg/H
DESCRIPTION:
URL:https://stpatricksgretna.org/event/knights-officer-mtg-h/2026-01-31/
LOCATION:Father Hitch Room (H)
ORGANIZER;CN="Megan Seamann - Communications Associate":MAILTO:meseamann@archomaha.org
END:VEVENT
BEGIN:VEVENT
DTSTART;TZID=America/Chicago:20260131T080000
DTEND;TZID=America/Chicago:20260131T220000
DTSTAMP:20260425T061028
CREATED:20251121T010614Z
LAST-MODIFIED:20251121T010614Z
UID:10084490-1769846400-1769896800@stpatricksgretna.org
SUMMARY:Least of My Brethren Dinner in PCA/PCB
DESCRIPTION:
URL:https://stpatricksgretna.org/event/least-of-my-brethren-dinner-in-pca-pcb/
LOCATION:Parish Center A / B / Kitchen (PCAB/K)\, 508 Angus St\, Gretna\, NE\, 68028\, United States
ORGANIZER;CN="Lezlie Thomas - Facility Coordinator":MAILTO:lathomas@archomaha.org
END:VEVENT
BEGIN:VEVENT
DTSTART;TZID=America/Chicago:20260201T085500
DTEND;TZID=America/Chicago:20260201T095500
DTSTAMP:20260425T061028
CREATED:20250721T142253Z
LAST-MODIFIED:20250721T142253Z
UID:10083403-1769936100-1769939700@stpatricksgretna.org
SUMMARY:Religious Ed Classes
DESCRIPTION:RE Classes
URL:https://stpatricksgretna.org/event/religious-ed-classes-2/2026-02-01/
LOCATION:Basement Commons / RE Classrooms / Youth Group Room (BS/RE/YG)\, Gretna\, NE\, United States
ORGANIZER;CN="Shane Fagan - Religious Education":MAILTO:smfagan@archomaha.org
END:VEVENT
BEGIN:VEVENT
DTSTART;TZID=America/Chicago:20260201T130000
DTEND;TZID=America/Chicago:20260201T140000
DTSTAMP:20260425T061028
CREATED:20250521T131226Z
LAST-MODIFIED:20250521T131226Z
UID:10082895-1769950800-1769954400@stpatricksgretna.org
SUMMARY:Baptisms/S
DESCRIPTION:
URL:https://stpatricksgretna.org/event/baptisms-s-2/2026-02-01/
LOCATION:Sanctuary (S)
ORGANIZER;CN="Judy Weier - Secretary":MAILTO:jaweier@archomaha.org
END:VEVENT
BEGIN:VEVENT
DTSTART;TZID=America/Chicago:20260202T090000
DTEND;TZID=America/Chicago:20260202T100000
DTSTAMP:20260425T061028
CREATED:20250606T164638Z
LAST-MODIFIED:20250606T164638Z
UID:10082992-1770022800-1770026400@stpatricksgretna.org
SUMMARY:Amazing Athletes/BS
DESCRIPTION:Amazing Athletes for Preschoolers
URL:https://stpatricksgretna.org/event/amazing-athletes-bs-2/2026-02-02/
LOCATION:Basement Common Area (BS)\, 508 Angus St\, Gretna\, NE\, 68028\, United States
ORGANIZER;CN="Amanda Scardina- Preschool Director":MAILTO:acscardina@archomaha.org
END:VEVENT
BEGIN:VEVENT
DTSTART;TZID=America/Chicago:20260202T190000
DTEND;TZID=America/Chicago:20260202T200000
DTSTAMP:20260425T061028
CREATED:20251114T191045Z
LAST-MODIFIED:20260126T211607Z
UID:10084983-1770058800-1770062400@stpatricksgretna.org
SUMMARY:Advent Women's Small Group/H
DESCRIPTION:Jean Hlavacek’s Small Group
URL:https://stpatricksgretna.org/event/advent-womens-small-group-h/2026-02-02/
LOCATION:Father Hitch Room (H)
ORGANIZER;CN="Megan Seamann - Communications Associate":MAILTO:meseamann@archomaha.org
END:VEVENT
BEGIN:VEVENT
DTSTART;TZID=America/Chicago:20260203T090000
DTEND;TZID=America/Chicago:20260203T100000
DTSTAMP:20260425T061028
CREATED:20250606T164638Z
LAST-MODIFIED:20250606T164638Z
UID:10082993-1770109200-1770112800@stpatricksgretna.org
SUMMARY:Amazing Athletes/BS
DESCRIPTION:Amazing Athletes for Preschoolers
URL:https://stpatricksgretna.org/event/amazing-athletes-bs-2/2026-02-03/
LOCATION:Basement Common Area (BS)\, 508 Angus St\, Gretna\, NE\, 68028\, United States
ORGANIZER;CN="Amanda Scardina- Preschool Director":MAILTO:acscardina@archomaha.org
END:VEVENT
BEGIN:VEVENT
DTSTART;TZID=America/Chicago:20260203T130000
DTEND;TZID=America/Chicago:20260203T143000
DTSTAMP:20260425T061028
CREATED:20260113T221107Z
LAST-MODIFIED:20260114T143955Z
UID:10085001-1770123600-1770129000@stpatricksgretna.org
SUMMARY:Bible Study Group/H
DESCRIPTION:Reserved by Christa Pichler
URL:https://stpatricksgretna.org/event/small-group-h/2026-02-03/
LOCATION:Father Hitch Room (H)
ORGANIZER;CN="Megan Seamann - Communications Associate":MAILTO:meseamann@archomaha.org
END:VEVENT
BEGIN:VEVENT
DTSTART;TZID=America/Chicago:20260203T180000
DTEND;TZID=America/Chicago:20260203T190000
DTSTAMP:20260425T061028
CREATED:20200220T221058Z
LAST-MODIFIED:20240717T210236Z
UID:10008656-1770141600-1770145200@stpatricksgretna.org
SUMMARY:KofC Holy Hour of Prayer/Sanctuary
DESCRIPTION:Join the Knights of Columbus Gretna Council in the Sanctuary for a Holy Hour of Prayer with a Rosary at 6:30 PM
URL:https://stpatricksgretna.org/event/kofc-holy-hour-of-prayer-sanctuary/2026-02-03/
LOCATION:Sanctuary (S)
CATEGORIES:Sanctuary
ORGANIZER;CN="Jolene Jefferies - Parish Manager":MAILTO:jmjefferies@archomaha.org
END:VEVENT
BEGIN:VEVENT
DTSTART;TZID=America/Chicago:20260203T190000
DTEND;TZID=America/Chicago:20260203T210000
DTSTAMP:20260425T061028
CREATED:20250710T194753Z
LAST-MODIFIED:20250710T194753Z
UID:10083322-1770145200-1770152400@stpatricksgretna.org
SUMMARY:KC Monthly Meeting in PCA/PCB
DESCRIPTION:
URL:https://stpatricksgretna.org/event/kc-monthly-meeting-in-pca-pcb-2/2026-02-03/
LOCATION:Parish Center A / B / Kitchen (PCAB/K)\, 508 Angus St\, Gretna\, NE\, 68028\, United States
ORGANIZER;CN="Lezlie Thomas - Facility Coordinator":MAILTO:lathomas@archomaha.org
END:VEVENT
BEGIN:VEVENT
DTSTART;TZID=America/Chicago:20260204T083000
DTEND;TZID=America/Chicago:20260204T110000
DTSTAMP:20260425T061028
CREATED:20260128T172119Z
LAST-MODIFIED:20260128T172122Z
UID:10083069-1770193800-1770202800@stpatricksgretna.org
SUMMARY:Faith Connection/H
DESCRIPTION: 
URL:https://stpatricksgretna.org/event/ladies-prayer-group-h-3/2026-02-04/
LOCATION:Parish Center C (PCC)\, 508 Angus St\, Gretna\, NE\, 68028\, United States
ORGANIZER;CN="Megan Seamann - Communications Associate":MAILTO:meseamann@archomaha.org
END:VEVENT
BEGIN:VEVENT
DTSTART;TZID=America/Chicago:20260204T130000
DTEND;TZID=America/Chicago:20260204T143000
DTSTAMP:20260425T061028
CREATED:20250731T142843Z
LAST-MODIFIED:20250731T142843Z
UID:10083503-1770210000-1770215400@stpatricksgretna.org
SUMMARY:Women's Small Group/H
DESCRIPTION:
URL:https://stpatricksgretna.org/event/womens-small-group-h-5/2026-02-04/
LOCATION:Father Hitch Room (H)
ORGANIZER;CN="Judy Weier - Secretary":MAILTO:jaweier@archomaha.org
END:VEVENT
BEGIN:VEVENT
DTSTART;TZID=America/Chicago:20260204T160000
DTEND;TZID=America/Chicago:20260204T200000
DTSTAMP:20260425T061028
CREATED:20250721T141621Z
LAST-MODIFIED:20250721T141621Z
UID:10083375-1770220800-1770235200@stpatricksgretna.org
SUMMARY:Religious Ed Classes
DESCRIPTION:Classes at 4:00\, 5:30\, & 7:00
URL:https://stpatricksgretna.org/event/religious-ed-classes/2026-02-04/
LOCATION:Basement Commons / RE Classrooms / Youth Group Room (BS/RE/YG)\, Gretna\, NE\, United States
ORGANIZER;CN="Shane Fagan - Religious Education":MAILTO:smfagan@archomaha.org
END:VEVENT
BEGIN:VEVENT
DTSTART;TZID=America/Chicago:20260204T190000
DTEND;TZID=America/Chicago:20260204T203000
DTSTAMP:20260425T061028
CREATED:20250805T143453Z
LAST-MODIFIED:20250805T143453Z
UID:10083565-1770231600-1770237000@stpatricksgretna.org
SUMMARY:Youth Group/YG
DESCRIPTION:
URL:https://stpatricksgretna.org/event/youth-group-yg/2026-02-04/
LOCATION:Youth Group Room (YG)\, 508 Angus St\, Gretna\, NE\, 68028\, United States
ORGANIZER;CN="Megan Seamann - Communications Associate":MAILTO:meseamann@archomaha.org
END:VEVENT
BEGIN:VEVENT
DTSTART;TZID=America/Chicago:20260205T090000
DTEND;TZID=America/Chicago:20260205T160000
DTSTAMP:20260425T061028
CREATED:20251002T141417Z
LAST-MODIFIED:20251002T141417Z
UID:10084292-1770282000-1770307200@stpatricksgretna.org
SUMMARY:Linus/Basement Commons
DESCRIPTION:
URL:https://stpatricksgretna.org/event/linus-basement-commons/2026-02-05/
LOCATION:Basement Commons (BS)\, Gretna
ORGANIZER;CN="Judy Weier - Secretary":MAILTO:jaweier@archomaha.org
END:VEVENT
BEGIN:VEVENT
DTSTART;TZID=America/Chicago:20260205T170000
DTEND;TZID=America/Chicago:20260205T183000
DTSTAMP:20260425T061028
CREATED:20260204T150509Z
LAST-MODIFIED:20260204T150509Z
UID:10085330-1770310800-1770316200@stpatricksgretna.org
SUMMARY:Women's Small Group/H
DESCRIPTION:
URL:https://stpatricksgretna.org/event/womens-small-group-h-11/2026-02-05/
LOCATION:Father Hitch Room (H)
ORGANIZER;CN="Judy Weier - Secretary":MAILTO:jaweier@archomaha.org
END:VEVENT
BEGIN:VEVENT
DTSTART;TZID=America/Chicago:20260205T190000
DTEND;TZID=America/Chicago:20260205T203000
DTSTAMP:20260425T061028
CREATED:20250805T143918Z
LAST-MODIFIED:20250805T143918Z
UID:10083820-1770318000-1770323400@stpatricksgretna.org
SUMMARY:OCIA/PCC
DESCRIPTION:
URL:https://stpatricksgretna.org/event/ocia-pcc-2/2026-02-05/
LOCATION:Parish Center C (PCC)\, 508 Angus St\, Gretna\, NE\, 68028\, United States
ORGANIZER;CN="Megan Seamann - Communications Associate":MAILTO:meseamann@archomaha.org
END:VEVENT
BEGIN:VEVENT
DTSTART;TZID=America/Chicago:20260206T063000
DTEND;TZID=America/Chicago:20260206T073000
DTSTAMP:20260425T061028
CREATED:20250306T174317Z
LAST-MODIFIED:20250306T174318Z
UID:10009584-1770359400-1770363000@stpatricksgretna.org
SUMMARY:Men's Faith Sharing/H
DESCRIPTION:
URL:https://stpatricksgretna.org/event/mens-faith-sharing-h/2026-02-06/
END:VEVENT
BEGIN:VEVENT
DTSTART;TZID=America/Chicago:20260206T080000
DTEND;TZID=America/Chicago:20260206T100000
DTSTAMP:20260425T061028
CREATED:20250306T174409Z
LAST-MODIFIED:20250306T174410Z
UID:10009845-1770364800-1770372000@stpatricksgretna.org
SUMMARY:Women's Faith Sharing/H
DESCRIPTION:
URL:https://stpatricksgretna.org/event/womens-faith-sharing-h/2026-02-06/
END:VEVENT
BEGIN:VEVENT
DTSTART;TZID=America/Chicago:20260208T070000
DTEND;TZID=America/Chicago:20260208T120000
DTSTAMP:20260425T061028
CREATED:20250710T195238Z
LAST-MODIFIED:20250710T195238Z
UID:10083333-1770534000-1770552000@stpatricksgretna.org
SUMMARY:Parish Breakfast in PC
DESCRIPTION:
URL:https://stpatricksgretna.org/event/parish-breakfast-in-pc-2/2026-02-08/
LOCATION:Parish Center A / B / C / Kitchen (PC/K)\, 508 Angus St\, Gretna\, NE\, 68028\, United States
ORGANIZER;CN="Lezlie Thomas - Facility Coordinator":MAILTO:lathomas@archomaha.org
END:VEVENT
BEGIN:VEVENT
DTSTART;TZID=America/Chicago:20260208T085500
DTEND;TZID=America/Chicago:20260208T095500
DTSTAMP:20260425T061028
CREATED:20250721T142253Z
LAST-MODIFIED:20250721T142253Z
UID:10083404-1770540900-1770544500@stpatricksgretna.org
SUMMARY:Religious Ed Classes
DESCRIPTION:RE Classes
URL:https://stpatricksgretna.org/event/religious-ed-classes-2/2026-02-08/
LOCATION:Basement Commons / RE Classrooms / Youth Group Room (BS/RE/YG)\, Gretna\, NE\, United States
ORGANIZER;CN="Shane Fagan - Religious Education":MAILTO:smfagan@archomaha.org
END:VEVENT
BEGIN:VEVENT
DTSTART;TZID=America/Chicago:20260209T110000
DTEND;TZID=America/Chicago:20260209T200000
DTSTAMP:20260425T061028
CREATED:20250710T195953Z
LAST-MODIFIED:20250710T195953Z
UID:10083337-1770634800-1770667200@stpatricksgretna.org
SUMMARY:KC Blood Drive in PCA/B
DESCRIPTION:
URL:https://stpatricksgretna.org/event/kc-blood-drive-in-pca-b/
LOCATION:Parish Center A / B / Kitchen (PCAB/K)\, 508 Angus St\, Gretna\, NE\, 68028\, United States
ORGANIZER;CN="Lezlie Thomas - Facility Coordinator":MAILTO:lathomas@archomaha.org
END:VEVENT
BEGIN:VEVENT
DTSTART;TZID=America/Chicago:20260209T190000
DTEND;TZID=America/Chicago:20260209T203000
DTSTAMP:20260425T061028
CREATED:20230707T194208Z
LAST-MODIFIED:20230707T194210Z
UID:10007052-1770663600-1770669000@stpatricksgretna.org
SUMMARY:Baptism Training Class/H
DESCRIPTION:
URL:https://stpatricksgretna.org/event/baptism-training-class-h/2026-02-09/
LOCATION:Father Hitch Room (H)
END:VEVENT
BEGIN:VEVENT
DTSTART;TZID=America/Chicago:20260210T130000
DTEND;TZID=America/Chicago:20260210T143000
DTSTAMP:20260425T061028
CREATED:20260113T221107Z
LAST-MODIFIED:20260114T143955Z
UID:10085002-1770728400-1770733800@stpatricksgretna.org
SUMMARY:Bible Study Group/H
DESCRIPTION:Reserved by Christa Pichler
URL:https://stpatricksgretna.org/event/small-group-h/2026-02-10/
LOCATION:Father Hitch Room (H)
ORGANIZER;CN="Megan Seamann - Communications Associate":MAILTO:meseamann@archomaha.org
END:VEVENT
BEGIN:VEVENT
DTSTART;TZID=America/Chicago:20260210T190000
DTEND;TZID=America/Chicago:20260210T203000
DTSTAMP:20260425T061028
CREATED:20260202T175855Z
LAST-MODIFIED:20260202T175855Z
UID:10085329-1770750000-1770755400@stpatricksgretna.org
SUMMARY:KOC Budget Mtg/H
DESCRIPTION:
URL:https://stpatricksgretna.org/event/koc-budget-mtg-h/
LOCATION:Father Hitch Room (H)
ORGANIZER;CN="Judy Weier - Secretary":MAILTO:jaweier@archomaha.org
END:VEVENT
BEGIN:VEVENT
DTSTART;TZID=America/Chicago:20260211T083000
DTEND;TZID=America/Chicago:20260211T110000
DTSTAMP:20260425T061028
CREATED:20260128T172119Z
LAST-MODIFIED:20260128T172122Z
UID:10085069-1770798600-1770807600@stpatricksgretna.org
SUMMARY:Faith Connection/H
DESCRIPTION: 
URL:https://stpatricksgretna.org/event/ladies-prayer-group-h-3/2026-02-11/
LOCATION:Parish Center C (PCC)\, 508 Angus St\, Gretna\, NE\, 68028\, United States
ORGANIZER;CN="Megan Seamann - Communications Associate":MAILTO:meseamann@archomaha.org
END:VEVENT
BEGIN:VEVENT
DTSTART;TZID=America/Chicago:20260211T130000
DTEND;TZID=America/Chicago:20260211T143000
DTSTAMP:20260425T061028
CREATED:20250731T142843Z
LAST-MODIFIED:20250731T142843Z
UID:10083504-1770814800-1770820200@stpatricksgretna.org
SUMMARY:Women's Small Group/H
DESCRIPTION:
URL:https://stpatricksgretna.org/event/womens-small-group-h-5/2026-02-11/
LOCATION:Father Hitch Room (H)
ORGANIZER;CN="Judy Weier - Secretary":MAILTO:jaweier@archomaha.org
END:VEVENT
END:VCALENDAR