BEGIN:VCALENDAR
VERSION:2.0
PRODID:-//St. Patrick Catholic Church - ECPv6.15.20//NONSGML v1.0//EN
CALSCALE:GREGORIAN
METHOD:PUBLISH
X-ORIGINAL-URL:https://stpatricksgretna.org
X-WR-CALDESC:Events for St. Patrick Catholic Church
REFRESH-INTERVAL;VALUE=DURATION:PT1H
X-Robots-Tag:noindex
X-PUBLISHED-TTL:PT1H
BEGIN:VTIMEZONE
TZID:America/Chicago
BEGIN:DAYLIGHT
TZOFFSETFROM:-0600
TZOFFSETTO:-0500
TZNAME:CDT
DTSTART:20250309T080000
END:DAYLIGHT
BEGIN:STANDARD
TZOFFSETFROM:-0500
TZOFFSETTO:-0600
TZNAME:CST
DTSTART:20251102T070000
END:STANDARD
BEGIN:DAYLIGHT
TZOFFSETFROM:-0600
TZOFFSETTO:-0500
TZNAME:CDT
DTSTART:20260308T080000
END:DAYLIGHT
BEGIN:STANDARD
TZOFFSETFROM:-0500
TZOFFSETTO:-0600
TZNAME:CST
DTSTART:20261101T070000
END:STANDARD
BEGIN:DAYLIGHT
TZOFFSETFROM:-0600
TZOFFSETTO:-0500
TZNAME:CDT
DTSTART:20270314T080000
END:DAYLIGHT
BEGIN:STANDARD
TZOFFSETFROM:-0500
TZOFFSETTO:-0600
TZNAME:CST
DTSTART:20271107T070000
END:STANDARD
END:VTIMEZONE
BEGIN:VEVENT
DTSTART;TZID=America/Chicago:20260703T063000
DTEND;TZID=America/Chicago:20260703T073000
DTSTAMP:20260419T132141
CREATED:20250306T174317Z
LAST-MODIFIED:20250306T174318Z
UID:10009605-1783060200-1783063800@stpatricksgretna.org
SUMMARY:Men's Faith Sharing/H
DESCRIPTION:
URL:https://stpatricksgretna.org/event/mens-faith-sharing-h/2026-07-03/
LOCATION:NE
END:VEVENT
BEGIN:VEVENT
DTSTART;TZID=America/Chicago:20260703T080000
DTEND;TZID=America/Chicago:20260703T100000
DTSTAMP:20260419T132141
CREATED:20250306T174409Z
LAST-MODIFIED:20250306T174410Z
UID:10009866-1783065600-1783072800@stpatricksgretna.org
SUMMARY:Women's Faith Sharing/H
DESCRIPTION:
URL:https://stpatricksgretna.org/event/womens-faith-sharing-h/2026-07-03/
LOCATION:NE
END:VEVENT
BEGIN:VEVENT
DTSTART;TZID=America/Chicago:20260705T130000
DTEND;TZID=America/Chicago:20260705T140000
DTSTAMP:20260419T132141
CREATED:20250521T131226Z
LAST-MODIFIED:20250521T131226Z
UID:10082900-1783256400-1783260000@stpatricksgretna.org
SUMMARY:Baptisms/S
DESCRIPTION:
URL:https://stpatricksgretna.org/event/baptisms-s-2/2026-07-05/
LOCATION:Sanctuary (S)
ORGANIZER;CN="Judy Weier - Secretary":MAILTO:jaweier@archomaha.org
END:VEVENT
BEGIN:VEVENT
DTSTART;TZID=America/Chicago:20260706T090000
DTEND;TZID=America/Chicago:20260706T113000
DTSTAMP:20260419T132141
CREATED:20251203T182719Z
LAST-MODIFIED:20251203T182719Z
UID:10084884-1783328400-1783337400@stpatricksgretna.org
SUMMARY:Preschool Summer Camp- Ocean/Shark Week/PS
DESCRIPTION:Ocean and Shark week Summer Camp for the Preschoolers
URL:https://stpatricksgretna.org/event/preschool-summer-camp-ocean-shark-week-ps/2026-07-06/
LOCATION:Preschool Area (PS)\, 508 Angus St\, Gretna\, NE\, 68028\, United States
ORGANIZER;CN="Amanda Scardina- Preschool Director":MAILTO:acscardina@archomaha.org
END:VEVENT
BEGIN:VEVENT
DTSTART;TZID=America/Chicago:20260707T090000
DTEND;TZID=America/Chicago:20260707T113000
DTSTAMP:20260419T132141
CREATED:20251203T182719Z
LAST-MODIFIED:20251203T182719Z
UID:10084885-1783414800-1783423800@stpatricksgretna.org
SUMMARY:Preschool Summer Camp- Ocean/Shark Week/PS
DESCRIPTION:Ocean and Shark week Summer Camp for the Preschoolers
URL:https://stpatricksgretna.org/event/preschool-summer-camp-ocean-shark-week-ps/2026-07-07/
LOCATION:Preschool Area (PS)\, 508 Angus St\, Gretna\, NE\, 68028\, United States
ORGANIZER;CN="Amanda Scardina- Preschool Director":MAILTO:acscardina@archomaha.org
END:VEVENT
BEGIN:VEVENT
DTSTART;TZID=America/Chicago:20260708T080000
DTEND;TZID=America/Chicago:20260708T170000
DTSTAMP:20260419T132141
CREATED:20251203T182719Z
LAST-MODIFIED:20251203T182719Z
UID:10084886-1783497600-1783530000@stpatricksgretna.org
SUMMARY:Preschool Summer Camp- Ocean/Shark Week/PS
DESCRIPTION:Ocean and Shark week Summer Camp for the Preschoolers
URL:https://stpatricksgretna.org/event/preschool-summer-camp-ocean-shark-week-ps/2026-07-08/
LOCATION:Preschool Area (PS)\, 508 Angus St\, Gretna\, NE\, 68028\, United States
ORGANIZER;CN="Amanda Scardina- Preschool Director":MAILTO:acscardina@archomaha.org
END:VEVENT
BEGIN:VEVENT
DTSTART;TZID=America/Chicago:20260708T083000
DTEND;TZID=America/Chicago:20260708T110000
DTSTAMP:20260419T132141
CREATED:20260128T172119Z
LAST-MODIFIED:20260128T172122Z
UID:10085090-1783499400-1783508400@stpatricksgretna.org
SUMMARY:Faith Connection/H
DESCRIPTION: 
URL:https://stpatricksgretna.org/event/ladies-prayer-group-h-3/2026-07-08/
LOCATION:Parish Center C (PCC)\, 508 Angus St\, Gretna\, NE\, 68028\, United States
ORGANIZER;CN="Megan Seamann - Communications Associate":MAILTO:meseamann@archomaha.org
END:VEVENT
BEGIN:VEVENT
DTSTART;TZID=America/Chicago:20260708T130000
DTEND;TZID=America/Chicago:20260708T143000
DTSTAMP:20260419T132141
CREATED:20250731T142843Z
LAST-MODIFIED:20250731T142843Z
UID:10083525-1783515600-1783521000@stpatricksgretna.org
SUMMARY:Women's Small Group/H
DESCRIPTION:
URL:https://stpatricksgretna.org/event/womens-small-group-h-5/2026-07-08/
LOCATION:Father Hitch Room (H)
ORGANIZER;CN="Judy Weier - Secretary":MAILTO:jaweier@archomaha.org
END:VEVENT
BEGIN:VEVENT
DTSTART;TZID=America/Chicago:20260708T190000
DTEND;TZID=America/Chicago:20260708T203000
DTSTAMP:20260419T132141
CREATED:20250805T143453Z
LAST-MODIFIED:20250805T143453Z
UID:10083587-1783537200-1783542600@stpatricksgretna.org
SUMMARY:Youth Group/YG
DESCRIPTION:
URL:https://stpatricksgretna.org/event/youth-group-yg/2026-07-08/
LOCATION:Youth Group Room (YG)\, 508 Angus St\, Gretna\, NE\, 68028\, United States
ORGANIZER;CN="Megan Seamann - Communications Associate":MAILTO:meseamann@archomaha.org
END:VEVENT
BEGIN:VEVENT
DTSTART;TZID=America/Chicago:20260709T080000
DTEND;TZID=America/Chicago:20260709T233000
DTSTAMP:20260419T132141
CREATED:20250509T135929Z
LAST-MODIFIED:20250509T140034Z
UID:10010245-1783584000-1783639800@stpatricksgretna.org
SUMMARY:Fr Ssonko Fundraiser Setup/All PC
DESCRIPTION:
URL:https://stpatricksgretna.org/event/fr-ssonko-fundraiser-setup-all-pc/
LOCATION:Parish Center All\, Gretna
ORGANIZER;CN="Judy Weier - Secretary":MAILTO:jaweier@archomaha.org
END:VEVENT
BEGIN:VEVENT
DTSTART;TZID=America/Chicago:20260709T090000
DTEND;TZID=America/Chicago:20260709T113000
DTSTAMP:20260419T132141
CREATED:20251203T182719Z
LAST-MODIFIED:20251203T182719Z
UID:10084887-1783587600-1783596600@stpatricksgretna.org
SUMMARY:Preschool Summer Camp- Ocean/Shark Week/PS
DESCRIPTION:Ocean and Shark week Summer Camp for the Preschoolers
URL:https://stpatricksgretna.org/event/preschool-summer-camp-ocean-shark-week-ps/2026-07-09/
LOCATION:Preschool Area (PS)\, 508 Angus St\, Gretna\, NE\, 68028\, United States
ORGANIZER;CN="Amanda Scardina- Preschool Director":MAILTO:acscardina@archomaha.org
END:VEVENT
BEGIN:VEVENT
DTSTART;TZID=America/Chicago:20260710T063000
DTEND;TZID=America/Chicago:20260710T073000
DTSTAMP:20260419T132141
CREATED:20250306T174317Z
LAST-MODIFIED:20250306T174318Z
UID:10009606-1783665000-1783668600@stpatricksgretna.org
SUMMARY:Men's Faith Sharing/H
DESCRIPTION:
URL:https://stpatricksgretna.org/event/mens-faith-sharing-h/2026-07-10/
LOCATION:NE
END:VEVENT
BEGIN:VEVENT
DTSTART;TZID=America/Chicago:20260710T080000
DTEND;TZID=America/Chicago:20260710T100000
DTSTAMP:20260419T132141
CREATED:20250306T174409Z
LAST-MODIFIED:20250306T174410Z
UID:10009867-1783670400-1783677600@stpatricksgretna.org
SUMMARY:Women's Faith Sharing/H
DESCRIPTION:
URL:https://stpatricksgretna.org/event/womens-faith-sharing-h/2026-07-10/
LOCATION:NE
END:VEVENT
BEGIN:VEVENT
DTSTART;TZID=America/Chicago:20260710T080000
DTEND;TZID=America/Chicago:20260710T233000
DTSTAMP:20260419T132141
CREATED:20250509T135014Z
LAST-MODIFIED:20250509T135711Z
UID:10010244-1783670400-1783726200@stpatricksgretna.org
SUMMARY:Fr Ssonko Fundraiser/All PC
DESCRIPTION:
URL:https://stpatricksgretna.org/event/fr-ssonko-fundraiser-all-pc/
LOCATION:Parish Center All\, Gretna
ORGANIZER;CN="Judy Weier - Secretary":MAILTO:jaweier@archomaha.org
END:VEVENT
BEGIN:VEVENT
DTSTART;TZID=America/Chicago:20260713T090000
DTEND;TZID=America/Chicago:20260713T113000
DTSTAMP:20260419T132141
CREATED:20251203T182924Z
LAST-MODIFIED:20251203T182924Z
UID:10084888-1783933200-1783942200@stpatricksgretna.org
SUMMARY:Preschool Summer Camp- Preschool Olympics 2026/PS
DESCRIPTION:Preschool Olympics Summer Camp for Preschoolers
URL:https://stpatricksgretna.org/event/preschool-summer-camp-preschool-olympics-2026-ps/2026-07-13/
LOCATION:Preschool Area (PS)\, 508 Angus St\, Gretna\, NE\, 68028\, United States
ORGANIZER;CN="Amanda Scardina- Preschool Director":MAILTO:acscardina@archomaha.org
END:VEVENT
BEGIN:VEVENT
DTSTART;TZID=America/Chicago:20260713T190000
DTEND;TZID=America/Chicago:20260713T203000
DTSTAMP:20260419T132141
CREATED:20230707T194208Z
LAST-MODIFIED:20230707T194210Z
UID:10007057-1783969200-1783974600@stpatricksgretna.org
SUMMARY:Baptism Training Class/H
DESCRIPTION:
URL:https://stpatricksgretna.org/event/baptism-training-class-h/2026-07-13/
LOCATION:Father Hitch Room (H)
END:VEVENT
BEGIN:VEVENT
DTSTART;TZID=America/Chicago:20260714T090000
DTEND;TZID=America/Chicago:20260714T113000
DTSTAMP:20260419T132141
CREATED:20251203T182924Z
LAST-MODIFIED:20251203T182924Z
UID:10084889-1784019600-1784028600@stpatricksgretna.org
SUMMARY:Preschool Summer Camp- Preschool Olympics 2026/PS
DESCRIPTION:Preschool Olympics Summer Camp for Preschoolers
URL:https://stpatricksgretna.org/event/preschool-summer-camp-preschool-olympics-2026-ps/2026-07-14/
LOCATION:Preschool Area (PS)\, 508 Angus St\, Gretna\, NE\, 68028\, United States
ORGANIZER;CN="Amanda Scardina- Preschool Director":MAILTO:acscardina@archomaha.org
END:VEVENT
BEGIN:VEVENT
DTSTART;TZID=America/Chicago:20260715T080000
DTEND;TZID=America/Chicago:20260715T093000
DTSTAMP:20260419T132141
CREATED:20200219T194906Z
LAST-MODIFIED:20230517T140921Z
UID:10006623-1784102400-1784107800@stpatricksgretna.org
SUMMARY:55+ Club Outing
DESCRIPTION:55+ Club Outing
URL:https://stpatricksgretna.org/event/55-club-outing/2026-07-15/
LOCATION:Offsite\, 508 Angus St\, Gretna\, NE\, 68028\, United States
END:VEVENT
BEGIN:VEVENT
DTSTART;TZID=America/Chicago:20260715T083000
DTEND;TZID=America/Chicago:20260715T110000
DTSTAMP:20260419T132141
CREATED:20260128T172119Z
LAST-MODIFIED:20260128T172122Z
UID:10085091-1784104200-1784113200@stpatricksgretna.org
SUMMARY:Faith Connection/H
DESCRIPTION: 
URL:https://stpatricksgretna.org/event/ladies-prayer-group-h-3/2026-07-15/
LOCATION:Parish Center C (PCC)\, 508 Angus St\, Gretna\, NE\, 68028\, United States
ORGANIZER;CN="Megan Seamann - Communications Associate":MAILTO:meseamann@archomaha.org
END:VEVENT
BEGIN:VEVENT
DTSTART;TZID=America/Chicago:20260715T090000
DTEND;TZID=America/Chicago:20260715T113000
DTSTAMP:20260419T132141
CREATED:20251203T182924Z
LAST-MODIFIED:20251203T182924Z
UID:10084890-1784106000-1784115000@stpatricksgretna.org
SUMMARY:Preschool Summer Camp- Preschool Olympics 2026/PS
DESCRIPTION:Preschool Olympics Summer Camp for Preschoolers
URL:https://stpatricksgretna.org/event/preschool-summer-camp-preschool-olympics-2026-ps/2026-07-15/
LOCATION:Preschool Area (PS)\, 508 Angus St\, Gretna\, NE\, 68028\, United States
ORGANIZER;CN="Amanda Scardina- Preschool Director":MAILTO:acscardina@archomaha.org
END:VEVENT
BEGIN:VEVENT
DTSTART;TZID=America/Chicago:20260715T130000
DTEND;TZID=America/Chicago:20260715T143000
DTSTAMP:20260419T132141
CREATED:20250731T142843Z
LAST-MODIFIED:20250731T142843Z
UID:10083526-1784120400-1784125800@stpatricksgretna.org
SUMMARY:Women's Small Group/H
DESCRIPTION:
URL:https://stpatricksgretna.org/event/womens-small-group-h-5/2026-07-15/
LOCATION:Father Hitch Room (H)
ORGANIZER;CN="Judy Weier - Secretary":MAILTO:jaweier@archomaha.org
END:VEVENT
BEGIN:VEVENT
DTSTART;TZID=America/Chicago:20260715T190000
DTEND;TZID=America/Chicago:20260715T203000
DTSTAMP:20260419T132141
CREATED:20250805T143453Z
LAST-MODIFIED:20250805T143453Z
UID:10083588-1784142000-1784147400@stpatricksgretna.org
SUMMARY:Youth Group/YG
DESCRIPTION:
URL:https://stpatricksgretna.org/event/youth-group-yg/2026-07-15/
LOCATION:Youth Group Room (YG)\, 508 Angus St\, Gretna\, NE\, 68028\, United States
ORGANIZER;CN="Megan Seamann - Communications Associate":MAILTO:meseamann@archomaha.org
END:VEVENT
BEGIN:VEVENT
DTSTART;TZID=America/Chicago:20260716T090000
DTEND;TZID=America/Chicago:20260716T113000
DTSTAMP:20260419T132141
CREATED:20251203T182924Z
LAST-MODIFIED:20251203T182924Z
UID:10084891-1784192400-1784201400@stpatricksgretna.org
SUMMARY:Preschool Summer Camp- Preschool Olympics 2026/PS
DESCRIPTION:Preschool Olympics Summer Camp for Preschoolers
URL:https://stpatricksgretna.org/event/preschool-summer-camp-preschool-olympics-2026-ps/2026-07-16/
LOCATION:Preschool Area (PS)\, 508 Angus St\, Gretna\, NE\, 68028\, United States
ORGANIZER;CN="Amanda Scardina- Preschool Director":MAILTO:acscardina@archomaha.org
END:VEVENT
BEGIN:VEVENT
DTSTART;TZID=America/Chicago:20260716T170000
DTEND;TZID=America/Chicago:20260716T190000
DTSTAMP:20260419T132141
CREATED:20251209T152507Z
LAST-MODIFIED:20251209T152507Z
UID:10084894-1784221200-1784228400@stpatricksgretna.org
SUMMARY:Wedding Rehearsal/S/N
DESCRIPTION:
URL:https://stpatricksgretna.org/event/wedding-rehearsal-s-n-24/
LOCATION:Sanctuary / Narthex (S/N)\, 508 Angus St\, Gretna\, NE\, 68028\, United States
ORGANIZER;CN="Judy Weier - Secretary":MAILTO:jaweier@archomaha.org
END:VEVENT
BEGIN:VEVENT
DTSTART;TZID=America/Chicago:20260717T063000
DTEND;TZID=America/Chicago:20260717T073000
DTSTAMP:20260419T132141
CREATED:20250306T174317Z
LAST-MODIFIED:20250306T174318Z
UID:10009607-1784269800-1784273400@stpatricksgretna.org
SUMMARY:Men's Faith Sharing/H
DESCRIPTION:
URL:https://stpatricksgretna.org/event/mens-faith-sharing-h/2026-07-17/
LOCATION:NE
END:VEVENT
BEGIN:VEVENT
DTSTART;TZID=America/Chicago:20260717T080000
DTEND;TZID=America/Chicago:20260717T100000
DTSTAMP:20260419T132141
CREATED:20250306T174409Z
LAST-MODIFIED:20250306T174410Z
UID:10009868-1784275200-1784282400@stpatricksgretna.org
SUMMARY:Women's Faith Sharing/H
DESCRIPTION:
URL:https://stpatricksgretna.org/event/womens-faith-sharing-h/2026-07-17/
LOCATION:NE
END:VEVENT
BEGIN:VEVENT
DTSTART;TZID=America/Chicago:20260717T120000
DTEND;TZID=America/Chicago:20260717T220000
DTSTAMP:20260419T132141
CREATED:20251211T010258Z
LAST-MODIFIED:20251211T010258Z
UID:10084899-1784289600-1784325600@stpatricksgretna.org
SUMMARY:Private Event in PCA
DESCRIPTION:
URL:https://stpatricksgretna.org/event/private-event-in-pca-10/
LOCATION:Parish Center A / Kitchen (PCA/K)\, 508 Angus St\, Gretna\, NE\, 68028\, United States
ORGANIZER;CN="Lezlie Thomas - Facility Coordinator":MAILTO:lathomas@archomaha.org
END:VEVENT
BEGIN:VEVENT
DTSTART;TZID=America/Chicago:20260717T130000
DTEND;TZID=America/Chicago:20260717T173000
DTSTAMP:20260419T132142
CREATED:20251209T152827Z
LAST-MODIFIED:20251209T152827Z
UID:10084895-1784293200-1784309400@stpatricksgretna.org
SUMMARY:Wedding Prep/S/N/B/H
DESCRIPTION:
URL:https://stpatricksgretna.org/event/wedding-prep-s-n-b-h-13/
LOCATION:Sanctuary / Brides / Hitch Room (S/B/H)\, 508 Angus St\, Gretna\, NE\, 68028\, United States
ORGANIZER;CN="Judy Weier - Secretary":MAILTO:jaweier@archomaha.org
END:VEVENT
BEGIN:VEVENT
DTSTART;TZID=America/Chicago:20260717T173000
DTEND;TZID=America/Chicago:20260717T183000
DTSTAMP:20260419T132142
CREATED:20251209T153008Z
LAST-MODIFIED:20251209T153008Z
UID:10084896-1784309400-1784313000@stpatricksgretna.org
SUMMARY:Wedding/S/N
DESCRIPTION:
URL:https://stpatricksgretna.org/event/wedding-s-n-14/
LOCATION:Sanctuary / Narthex (S/N)\, 508 Angus St\, Gretna\, NE\, 68028\, United States
ORGANIZER;CN="Judy Weier - Secretary":MAILTO:jaweier@archomaha.org
END:VEVENT
BEGIN:VEVENT
DTSTART;VALUE=DATE:20260719
DTEND;VALUE=DATE:20260725
DTSTAMP:20260419T132142
CREATED:20251107T153745Z
LAST-MODIFIED:20251107T153745Z
UID:10084409-1784419200-1784937599@stpatricksgretna.org
SUMMARY:Totus Tuus
DESCRIPTION:For 1st – 6th Grades: Monday – Friday 9am-2:30\nConfessions & Mass 10am-Noon\nFor 7th-12th Grades: Sunday – Thursday 6:30pm-8:45pm\nConfessions & Adoration: Tuesday
URL:https://stpatricksgretna.org/event/totus-tuus-2/
LOCATION:Basement Commons / RE Classrooms / Youth Group Room (BS/RE/YG)\, Gretna\, NE\, United States
ORGANIZER;CN="Shane Fagan - Religious Education":MAILTO:smfagan@archomaha.org
END:VEVENT
END:VCALENDAR