BEGIN:VCALENDAR
VERSION:2.0
PRODID:-//St. Patrick Catholic Church - ECPv6.15.20//NONSGML v1.0//EN
CALSCALE:GREGORIAN
METHOD:PUBLISH
X-ORIGINAL-URL:https://stpatricksgretna.org
X-WR-CALDESC:Events for St. Patrick Catholic Church
REFRESH-INTERVAL;VALUE=DURATION:PT1H
X-Robots-Tag:noindex
X-PUBLISHED-TTL:PT1H
BEGIN:VTIMEZONE
TZID:America/Chicago
BEGIN:DAYLIGHT
TZOFFSETFROM:-0600
TZOFFSETTO:-0500
TZNAME:CDT
DTSTART:20250309T080000
END:DAYLIGHT
BEGIN:STANDARD
TZOFFSETFROM:-0500
TZOFFSETTO:-0600
TZNAME:CST
DTSTART:20251102T070000
END:STANDARD
BEGIN:DAYLIGHT
TZOFFSETFROM:-0600
TZOFFSETTO:-0500
TZNAME:CDT
DTSTART:20260308T080000
END:DAYLIGHT
BEGIN:STANDARD
TZOFFSETFROM:-0500
TZOFFSETTO:-0600
TZNAME:CST
DTSTART:20261101T070000
END:STANDARD
BEGIN:DAYLIGHT
TZOFFSETFROM:-0600
TZOFFSETTO:-0500
TZNAME:CDT
DTSTART:20270314T080000
END:DAYLIGHT
BEGIN:STANDARD
TZOFFSETFROM:-0500
TZOFFSETTO:-0600
TZNAME:CST
DTSTART:20271107T070000
END:STANDARD
END:VTIMEZONE
BEGIN:VEVENT
DTSTART;TZID=America/Chicago:20260721T173000
DTEND;TZID=America/Chicago:20260721T190000
DTSTAMP:20260425T123050
CREATED:20260120T212117Z
LAST-MODIFIED:20260120T212117Z
UID:10085020-1784655000-1784660400@stpatricksgretna.org
SUMMARY:Volunteer Thank You Mass & Rosary/S/N
DESCRIPTION:
URL:https://stpatricksgretna.org/event/volunteer-thank-you-mass-rosary-s-n/
LOCATION:Sanctuary / Narthex (S/N)\, 508 Angus St\, Gretna\, NE\, 68028\, United States
ORGANIZER;CN="Judy Weier - Secretary":MAILTO:jaweier@archomaha.org
END:VEVENT
BEGIN:VEVENT
DTSTART;TZID=America/Chicago:20260722T083000
DTEND;TZID=America/Chicago:20260722T110000
DTSTAMP:20260425T123050
CREATED:20260128T172119Z
LAST-MODIFIED:20260128T172122Z
UID:10085092-1784709000-1784718000@stpatricksgretna.org
SUMMARY:Faith Connection/H
DESCRIPTION: 
URL:https://stpatricksgretna.org/event/ladies-prayer-group-h-3/2026-07-22/
LOCATION:Parish Center C (PCC)\, 508 Angus St\, Gretna\, NE\, 68028\, United States
ORGANIZER;CN="Megan Seamann - Communications Associate":MAILTO:meseamann@archomaha.org
END:VEVENT
BEGIN:VEVENT
DTSTART;TZID=America/Chicago:20260722T130000
DTEND;TZID=America/Chicago:20260722T143000
DTSTAMP:20260425T123050
CREATED:20250731T142843Z
LAST-MODIFIED:20250731T142843Z
UID:10083527-1784725200-1784730600@stpatricksgretna.org
SUMMARY:Women's Small Group/H
DESCRIPTION:
URL:https://stpatricksgretna.org/event/womens-small-group-h-5/2026-07-22/
LOCATION:Father Hitch Room (H)
ORGANIZER;CN="Judy Weier - Secretary":MAILTO:jaweier@archomaha.org
END:VEVENT
BEGIN:VEVENT
DTSTART;TZID=America/Chicago:20260722T190000
DTEND;TZID=America/Chicago:20260722T203000
DTSTAMP:20260425T123050
CREATED:20250805T143453Z
LAST-MODIFIED:20250805T143453Z
UID:10083589-1784746800-1784752200@stpatricksgretna.org
SUMMARY:Youth Group/YG
DESCRIPTION:
URL:https://stpatricksgretna.org/event/youth-group-yg/2026-07-22/
LOCATION:Youth Group Room (YG)\, 508 Angus St\, Gretna\, NE\, 68028\, United States
ORGANIZER;CN="Megan Seamann - Communications Associate":MAILTO:meseamann@archomaha.org
END:VEVENT
BEGIN:VEVENT
DTSTART;TZID=America/Chicago:20260724T063000
DTEND;TZID=America/Chicago:20260724T073000
DTSTAMP:20260425T123050
CREATED:20250306T174317Z
LAST-MODIFIED:20250306T174318Z
UID:10009608-1784874600-1784878200@stpatricksgretna.org
SUMMARY:Men's Faith Sharing/H
DESCRIPTION:
URL:https://stpatricksgretna.org/event/mens-faith-sharing-h/2026-07-24/
LOCATION:NE
END:VEVENT
BEGIN:VEVENT
DTSTART;TZID=America/Chicago:20260724T080000
DTEND;TZID=America/Chicago:20260724T100000
DTSTAMP:20260425T123050
CREATED:20250306T174409Z
LAST-MODIFIED:20250306T174410Z
UID:10009869-1784880000-1784887200@stpatricksgretna.org
SUMMARY:Women's Faith Sharing/H
DESCRIPTION:
URL:https://stpatricksgretna.org/event/womens-faith-sharing-h/2026-07-24/
LOCATION:NE
END:VEVENT
BEGIN:VEVENT
DTSTART;TZID=America/Chicago:20260724T170000
DTEND;TZID=America/Chicago:20260724T190000
DTSTAMP:20260425T123050
CREATED:20250718T131547Z
LAST-MODIFIED:20250718T131547Z
UID:10083351-1784912400-1784919600@stpatricksgretna.org
SUMMARY:Wedding Rehearsal/N/S
DESCRIPTION:
URL:https://stpatricksgretna.org/event/wedding-rehearsal-n-s-6/
LOCATION:Sanctuary / Narthex (S/N)\, 508 Angus St\, Gretna\, NE\, 68028\, United States
ORGANIZER;CN="Judy Weier - Secretary":MAILTO:jaweier@archomaha.org
END:VEVENT
BEGIN:VEVENT
DTSTART;TZID=America/Chicago:20260725T080000
DTEND;TZID=America/Chicago:20260725T140000
DTSTAMP:20260425T123050
CREATED:20250718T131741Z
LAST-MODIFIED:20250718T131741Z
UID:10083352-1784966400-1784988000@stpatricksgretna.org
SUMMARY:Wedding Prep/S/N/H/B
DESCRIPTION:
URL:https://stpatricksgretna.org/event/wedding-prep-s-n-h-b-3/
LOCATION:Sanctuary / Brides / Hitch Room (S/B/H)\, 508 Angus St\, Gretna\, NE\, 68028\, United States
ORGANIZER;CN="Judy Weier - Secretary":MAILTO:jaweier@archomaha.org
END:VEVENT
BEGIN:VEVENT
DTSTART;TZID=America/Chicago:20260725T140000
DTEND;TZID=America/Chicago:20260725T153000
DTSTAMP:20260425T123050
CREATED:20250718T131845Z
LAST-MODIFIED:20250718T131845Z
UID:10083353-1784988000-1784993400@stpatricksgretna.org
SUMMARY:Wedding/S/N
DESCRIPTION:
URL:https://stpatricksgretna.org/event/wedding-s-n/
LOCATION:Sanctuary / Narthex (S/N)\, 508 Angus St\, Gretna\, NE\, 68028\, United States
ORGANIZER;CN="Judy Weier - Secretary":MAILTO:jaweier@archomaha.org
END:VEVENT
BEGIN:VEVENT
DTSTART;TZID=America/Chicago:20260729T083000
DTEND;TZID=America/Chicago:20260729T110000
DTSTAMP:20260425T123050
CREATED:20260128T172119Z
LAST-MODIFIED:20260128T172122Z
UID:10085093-1785313800-1785322800@stpatricksgretna.org
SUMMARY:Faith Connection/H
DESCRIPTION: 
URL:https://stpatricksgretna.org/event/ladies-prayer-group-h-3/2026-07-29/
LOCATION:Parish Center C (PCC)\, 508 Angus St\, Gretna\, NE\, 68028\, United States
ORGANIZER;CN="Megan Seamann - Communications Associate":MAILTO:meseamann@archomaha.org
END:VEVENT
BEGIN:VEVENT
DTSTART;TZID=America/Chicago:20260729T130000
DTEND;TZID=America/Chicago:20260729T143000
DTSTAMP:20260425T123050
CREATED:20250731T142843Z
LAST-MODIFIED:20250731T142843Z
UID:10083528-1785330000-1785335400@stpatricksgretna.org
SUMMARY:Women's Small Group/H
DESCRIPTION:
URL:https://stpatricksgretna.org/event/womens-small-group-h-5/2026-07-29/
LOCATION:Father Hitch Room (H)
ORGANIZER;CN="Judy Weier - Secretary":MAILTO:jaweier@archomaha.org
END:VEVENT
BEGIN:VEVENT
DTSTART;TZID=America/Chicago:20260729T190000
DTEND;TZID=America/Chicago:20260729T203000
DTSTAMP:20260425T123050
CREATED:20250805T143453Z
LAST-MODIFIED:20250805T143453Z
UID:10083590-1785351600-1785357000@stpatricksgretna.org
SUMMARY:Youth Group/YG
DESCRIPTION:
URL:https://stpatricksgretna.org/event/youth-group-yg/2026-07-29/
LOCATION:Youth Group Room (YG)\, 508 Angus St\, Gretna\, NE\, 68028\, United States
ORGANIZER;CN="Megan Seamann - Communications Associate":MAILTO:meseamann@archomaha.org
END:VEVENT
BEGIN:VEVENT
DTSTART;TZID=America/Chicago:20260731T063000
DTEND;TZID=America/Chicago:20260731T073000
DTSTAMP:20260425T123050
CREATED:20250306T174317Z
LAST-MODIFIED:20250306T174318Z
UID:10009609-1785479400-1785483000@stpatricksgretna.org
SUMMARY:Men's Faith Sharing/H
DESCRIPTION:
URL:https://stpatricksgretna.org/event/mens-faith-sharing-h/2026-07-31/
LOCATION:NE
END:VEVENT
BEGIN:VEVENT
DTSTART;TZID=America/Chicago:20260731T080000
DTEND;TZID=America/Chicago:20260731T100000
DTSTAMP:20260425T123050
CREATED:20250306T174409Z
LAST-MODIFIED:20250306T174410Z
UID:10009870-1785484800-1785492000@stpatricksgretna.org
SUMMARY:Women's Faith Sharing/H
DESCRIPTION:
URL:https://stpatricksgretna.org/event/womens-faith-sharing-h/2026-07-31/
LOCATION:NE
END:VEVENT
BEGIN:VEVENT
DTSTART;TZID=America/Chicago:20260731T170000
DTEND;TZID=America/Chicago:20260731T190000
DTSTAMP:20260425T123050
CREATED:20250911T161533Z
LAST-MODIFIED:20250911T161533Z
UID:10084269-1785517200-1785524400@stpatricksgretna.org
SUMMARY:Wedding Rehearsal/S/N
DESCRIPTION:
URL:https://stpatricksgretna.org/event/wedding-rehearsal-s-n-4/
LOCATION:Sanctuary / Narthex (S/N)\, 508 Angus St\, Gretna\, NE\, 68028\, United States
ORGANIZER;CN="Judy Weier - Secretary":MAILTO:jaweier@archomaha.org
END:VEVENT
BEGIN:VEVENT
DTSTART;TZID=America/Chicago:20260801T080000
DTEND;TZID=America/Chicago:20260801T140000
DTSTAMP:20260425T123050
CREATED:20250911T161402Z
LAST-MODIFIED:20250911T161402Z
UID:10084268-1785571200-1785592800@stpatricksgretna.org
SUMMARY:Wedding Prep/S/N
DESCRIPTION:
URL:https://stpatricksgretna.org/event/wedding-prep-s-n-2/
LOCATION:Sanctuary / Narthex / Hitch / Brides (SNHB)\, 508 W Angus Street\, Gretna\, NE\, 68028
ORGANIZER;CN="Judy Weier - Secretary":MAILTO:jaweier@archomaha.org
END:VEVENT
BEGIN:VEVENT
DTSTART;TZID=America/Chicago:20260801T140000
DTEND;TZID=America/Chicago:20260801T153000
DTSTAMP:20260425T123050
CREATED:20250911T160823Z
LAST-MODIFIED:20250911T161053Z
UID:10084267-1785592800-1785598200@stpatricksgretna.org
SUMMARY:Wedding/N/B
DESCRIPTION:
URL:https://stpatricksgretna.org/event/wedding-rehearsal-s-n/
LOCATION:Sanctuary / Narthex (S/N)\, 508 Angus St\, Gretna\, NE\, 68028\, United States
ORGANIZER;CN="Judy Weier - Secretary":MAILTO:jaweier@archomaha.org
END:VEVENT
BEGIN:VEVENT
DTSTART;TZID=America/Chicago:20260802T110000
DTEND;TZID=America/Chicago:20260802T160000
DTSTAMP:20260425T123050
CREATED:20251218T213136Z
LAST-MODIFIED:20251218T213136Z
UID:10084908-1785668400-1785686400@stpatricksgretna.org
SUMMARY:Father Vince's 25th Anniversary Party/All PC
DESCRIPTION:
URL:https://stpatricksgretna.org/event/father-vinces-25th-anniversary-party-all-pc/
LOCATION:Parish Center All\, Gretna
ORGANIZER;CN="Judy Weier - Secretary":MAILTO:jaweier@archomaha.org
END:VEVENT
BEGIN:VEVENT
DTSTART;TZID=America/Chicago:20260802T130000
DTEND;TZID=America/Chicago:20260802T140000
DTSTAMP:20260425T123050
CREATED:20250521T131226Z
LAST-MODIFIED:20250521T131226Z
UID:10082901-1785675600-1785679200@stpatricksgretna.org
SUMMARY:Baptisms/S
DESCRIPTION:
URL:https://stpatricksgretna.org/event/baptisms-s-2/2026-08-02/
LOCATION:Sanctuary (S)
ORGANIZER;CN="Judy Weier - Secretary":MAILTO:jaweier@archomaha.org
END:VEVENT
BEGIN:VEVENT
DTSTART;TZID=America/Chicago:20260805T083000
DTEND;TZID=America/Chicago:20260805T110000
DTSTAMP:20260425T123050
CREATED:20260128T172119Z
LAST-MODIFIED:20260128T172122Z
UID:10085094-1785918600-1785927600@stpatricksgretna.org
SUMMARY:Faith Connection/H
DESCRIPTION: 
URL:https://stpatricksgretna.org/event/ladies-prayer-group-h-3/2026-08-05/
LOCATION:Parish Center C (PCC)\, 508 Angus St\, Gretna\, NE\, 68028\, United States
ORGANIZER;CN="Megan Seamann - Communications Associate":MAILTO:meseamann@archomaha.org
END:VEVENT
BEGIN:VEVENT
DTSTART;TZID=America/Chicago:20260805T130000
DTEND;TZID=America/Chicago:20260805T143000
DTSTAMP:20260425T123050
CREATED:20250731T142843Z
LAST-MODIFIED:20250731T142843Z
UID:10083529-1785934800-1785940200@stpatricksgretna.org
SUMMARY:Women's Small Group/H
DESCRIPTION:
URL:https://stpatricksgretna.org/event/womens-small-group-h-5/2026-08-05/
LOCATION:Father Hitch Room (H)
ORGANIZER;CN="Judy Weier - Secretary":MAILTO:jaweier@archomaha.org
END:VEVENT
BEGIN:VEVENT
DTSTART;TZID=America/Chicago:20260805T190000
DTEND;TZID=America/Chicago:20260805T203000
DTSTAMP:20260425T123050
CREATED:20250805T143453Z
LAST-MODIFIED:20250805T143453Z
UID:10083591-1785956400-1785961800@stpatricksgretna.org
SUMMARY:Youth Group/YG
DESCRIPTION:
URL:https://stpatricksgretna.org/event/youth-group-yg/2026-08-05/
LOCATION:Youth Group Room (YG)\, 508 Angus St\, Gretna\, NE\, 68028\, United States
ORGANIZER;CN="Megan Seamann - Communications Associate":MAILTO:meseamann@archomaha.org
END:VEVENT
BEGIN:VEVENT
DTSTART;TZID=America/Chicago:20260807T063000
DTEND;TZID=America/Chicago:20260807T073000
DTSTAMP:20260425T123050
CREATED:20250306T174317Z
LAST-MODIFIED:20250306T174318Z
UID:10009610-1786084200-1786087800@stpatricksgretna.org
SUMMARY:Men's Faith Sharing/H
DESCRIPTION:
URL:https://stpatricksgretna.org/event/mens-faith-sharing-h/2026-08-07/
LOCATION:NE
END:VEVENT
BEGIN:VEVENT
DTSTART;TZID=America/Chicago:20260807T080000
DTEND;TZID=America/Chicago:20260807T100000
DTSTAMP:20260425T123050
CREATED:20250306T174409Z
LAST-MODIFIED:20250306T174410Z
UID:10009871-1786089600-1786096800@stpatricksgretna.org
SUMMARY:Women's Faith Sharing/H
DESCRIPTION:
URL:https://stpatricksgretna.org/event/womens-faith-sharing-h/2026-08-07/
LOCATION:NE
END:VEVENT
BEGIN:VEVENT
DTSTART;TZID=America/Chicago:20260809T190000
DTEND;TZID=America/Chicago:20260809T203000
DTSTAMP:20260425T123050
CREATED:20241203T214409Z
LAST-MODIFIED:20260410T154736Z
UID:10085561-1786302000-1786307400@stpatricksgretna.org
SUMMARY:COR Meeting/H
DESCRIPTION: 
URL:https://stpatricksgretna.org/event/cor-meeting-h-2/2026-08-09/
LOCATION:Father Hitch Room (H)
ORGANIZER;CN="Megan Seamann - Communications Associate":MAILTO:meseamann@archomaha.org
END:VEVENT
BEGIN:VEVENT
DTSTART;TZID=America/Chicago:20260810T190000
DTEND;TZID=America/Chicago:20260810T203000
DTSTAMP:20260425T123050
CREATED:20230707T194208Z
LAST-MODIFIED:20230707T194210Z
UID:10007058-1786388400-1786393800@stpatricksgretna.org
SUMMARY:Baptism Training Class/H
DESCRIPTION:
URL:https://stpatricksgretna.org/event/baptism-training-class-h/2026-08-10/
LOCATION:Father Hitch Room (H)
END:VEVENT
BEGIN:VEVENT
DTSTART;TZID=America/Chicago:20260812T083000
DTEND;TZID=America/Chicago:20260812T110000
DTSTAMP:20260425T123050
CREATED:20260128T172119Z
LAST-MODIFIED:20260128T172122Z
UID:10085095-1786523400-1786532400@stpatricksgretna.org
SUMMARY:Faith Connection/H
DESCRIPTION: 
URL:https://stpatricksgretna.org/event/ladies-prayer-group-h-3/2026-08-12/
LOCATION:Parish Center C (PCC)\, 508 Angus St\, Gretna\, NE\, 68028\, United States
ORGANIZER;CN="Megan Seamann - Communications Associate":MAILTO:meseamann@archomaha.org
END:VEVENT
BEGIN:VEVENT
DTSTART;TZID=America/Chicago:20260812T130000
DTEND;TZID=America/Chicago:20260812T143000
DTSTAMP:20260425T123050
CREATED:20250731T142843Z
LAST-MODIFIED:20250731T142843Z
UID:10083530-1786539600-1786545000@stpatricksgretna.org
SUMMARY:Women's Small Group/H
DESCRIPTION:
URL:https://stpatricksgretna.org/event/womens-small-group-h-5/2026-08-12/
LOCATION:Father Hitch Room (H)
ORGANIZER;CN="Judy Weier - Secretary":MAILTO:jaweier@archomaha.org
END:VEVENT
BEGIN:VEVENT
DTSTART;TZID=America/Chicago:20260812T190000
DTEND;TZID=America/Chicago:20260812T203000
DTSTAMP:20260425T123050
CREATED:20250805T143453Z
LAST-MODIFIED:20250805T143453Z
UID:10083592-1786561200-1786566600@stpatricksgretna.org
SUMMARY:Youth Group/YG
DESCRIPTION:
URL:https://stpatricksgretna.org/event/youth-group-yg/2026-08-12/
LOCATION:Youth Group Room (YG)\, 508 Angus St\, Gretna\, NE\, 68028\, United States
ORGANIZER;CN="Megan Seamann - Communications Associate":MAILTO:meseamann@archomaha.org
END:VEVENT
BEGIN:VEVENT
DTSTART;TZID=America/Chicago:20260814T063000
DTEND;TZID=America/Chicago:20260814T073000
DTSTAMP:20260425T123050
CREATED:20250306T174317Z
LAST-MODIFIED:20250306T174318Z
UID:10009611-1786689000-1786692600@stpatricksgretna.org
SUMMARY:Men's Faith Sharing/H
DESCRIPTION:
URL:https://stpatricksgretna.org/event/mens-faith-sharing-h/2026-08-14/
LOCATION:NE
END:VEVENT
END:VCALENDAR