BEGIN:VCALENDAR
VERSION:2.0
PRODID:-//St. Patrick Catholic Church - ECPv6.15.20//NONSGML v1.0//EN
CALSCALE:GREGORIAN
METHOD:PUBLISH
X-WR-CALNAME:St. Patrick Catholic Church
X-ORIGINAL-URL:https://stpatricksgretna.org
X-WR-CALDESC:Events for St. Patrick Catholic Church
REFRESH-INTERVAL;VALUE=DURATION:PT1H
X-Robots-Tag:noindex
X-PUBLISHED-TTL:PT1H
BEGIN:VTIMEZONE
TZID:America/Chicago
BEGIN:DAYLIGHT
TZOFFSETFROM:-0600
TZOFFSETTO:-0500
TZNAME:CDT
DTSTART:20240310T080000
END:DAYLIGHT
BEGIN:STANDARD
TZOFFSETFROM:-0500
TZOFFSETTO:-0600
TZNAME:CST
DTSTART:20241103T070000
END:STANDARD
BEGIN:DAYLIGHT
TZOFFSETFROM:-0600
TZOFFSETTO:-0500
TZNAME:CDT
DTSTART:20250309T080000
END:DAYLIGHT
BEGIN:STANDARD
TZOFFSETFROM:-0500
TZOFFSETTO:-0600
TZNAME:CST
DTSTART:20251102T070000
END:STANDARD
BEGIN:DAYLIGHT
TZOFFSETFROM:-0600
TZOFFSETTO:-0500
TZNAME:CDT
DTSTART:20260308T080000
END:DAYLIGHT
BEGIN:STANDARD
TZOFFSETFROM:-0500
TZOFFSETTO:-0600
TZNAME:CST
DTSTART:20261101T070000
END:STANDARD
BEGIN:DAYLIGHT
TZOFFSETFROM:-0600
TZOFFSETTO:-0500
TZNAME:CDT
DTSTART:20270314T080000
END:DAYLIGHT
BEGIN:STANDARD
TZOFFSETFROM:-0500
TZOFFSETTO:-0600
TZNAME:CST
DTSTART:20271107T070000
END:STANDARD
END:VTIMEZONE
BEGIN:VEVENT
DTSTART;VALUE=DATE:20260218
DTEND;VALUE=DATE:20260219
DTSTAMP:20260420T043308
CREATED:20250721T150023Z
LAST-MODIFIED:20250721T150023Z
UID:10083428-1771372800-1771459199@stpatricksgretna.org
SUMMARY:NO RE CLASSES
DESCRIPTION:No classes
URL:https://stpatricksgretna.org/event/no-re-classes-2/2026-02-18/
LOCATION:Basement Commons / RE Classrooms / Youth Group Room (BS/RE/YG)\, Gretna\, NE\, United States
ORGANIZER;CN="Shane Fagan - Religious Education":MAILTO:smfagan@archomaha.org
END:VEVENT
BEGIN:VEVENT
DTSTART;TZID=America/Chicago:20260215T085500
DTEND;TZID=America/Chicago:20260215T095500
DTSTAMP:20260420T043308
CREATED:20250721T142253Z
LAST-MODIFIED:20250721T142253Z
UID:10083405-1771145700-1771149300@stpatricksgretna.org
SUMMARY:Religious Ed Classes
DESCRIPTION:RE Classes
URL:https://stpatricksgretna.org/event/religious-ed-classes-2/2026-02-15/
LOCATION:Basement Commons / RE Classrooms / Youth Group Room (BS/RE/YG)\, Gretna\, NE\, United States
ORGANIZER;CN="Shane Fagan - Religious Education":MAILTO:smfagan@archomaha.org
END:VEVENT
BEGIN:VEVENT
DTSTART;TZID=America/Chicago:20260211T160000
DTEND;TZID=America/Chicago:20260211T200000
DTSTAMP:20260420T043308
CREATED:20250721T141621Z
LAST-MODIFIED:20250721T141621Z
UID:10083376-1770825600-1770840000@stpatricksgretna.org
SUMMARY:Religious Ed Classes
DESCRIPTION:Classes at 4:00\, 5:30\, & 7:00
URL:https://stpatricksgretna.org/event/religious-ed-classes/2026-02-11/
LOCATION:Basement Commons / RE Classrooms / Youth Group Room (BS/RE/YG)\, Gretna\, NE\, United States
ORGANIZER;CN="Shane Fagan - Religious Education":MAILTO:smfagan@archomaha.org
END:VEVENT
BEGIN:VEVENT
DTSTART;TZID=America/Chicago:20260208T085500
DTEND;TZID=America/Chicago:20260208T095500
DTSTAMP:20260420T043308
CREATED:20250721T142253Z
LAST-MODIFIED:20250721T142253Z
UID:10083404-1770540900-1770544500@stpatricksgretna.org
SUMMARY:Religious Ed Classes
DESCRIPTION:RE Classes
URL:https://stpatricksgretna.org/event/religious-ed-classes-2/2026-02-08/
LOCATION:Basement Commons / RE Classrooms / Youth Group Room (BS/RE/YG)\, Gretna\, NE\, United States
ORGANIZER;CN="Shane Fagan - Religious Education":MAILTO:smfagan@archomaha.org
END:VEVENT
BEGIN:VEVENT
DTSTART;TZID=America/Chicago:20260204T160000
DTEND;TZID=America/Chicago:20260204T200000
DTSTAMP:20260420T043308
CREATED:20250721T141621Z
LAST-MODIFIED:20250721T141621Z
UID:10083375-1770220800-1770235200@stpatricksgretna.org
SUMMARY:Religious Ed Classes
DESCRIPTION:Classes at 4:00\, 5:30\, & 7:00
URL:https://stpatricksgretna.org/event/religious-ed-classes/2026-02-04/
LOCATION:Basement Commons / RE Classrooms / Youth Group Room (BS/RE/YG)\, Gretna\, NE\, United States
ORGANIZER;CN="Shane Fagan - Religious Education":MAILTO:smfagan@archomaha.org
END:VEVENT
BEGIN:VEVENT
DTSTART;TZID=America/Chicago:20260201T085500
DTEND;TZID=America/Chicago:20260201T095500
DTSTAMP:20260420T043308
CREATED:20250721T142253Z
LAST-MODIFIED:20250721T142253Z
UID:10083403-1769936100-1769939700@stpatricksgretna.org
SUMMARY:Religious Ed Classes
DESCRIPTION:RE Classes
URL:https://stpatricksgretna.org/event/religious-ed-classes-2/2026-02-01/
LOCATION:Basement Commons / RE Classrooms / Youth Group Room (BS/RE/YG)\, Gretna\, NE\, United States
ORGANIZER;CN="Shane Fagan - Religious Education":MAILTO:smfagan@archomaha.org
END:VEVENT
BEGIN:VEVENT
DTSTART;TZID=America/Chicago:20260128T160000
DTEND;TZID=America/Chicago:20260128T200000
DTSTAMP:20260420T043308
CREATED:20250721T141621Z
LAST-MODIFIED:20250721T141621Z
UID:10083374-1769616000-1769630400@stpatricksgretna.org
SUMMARY:Religious Ed Classes
DESCRIPTION:Classes at 4:00\, 5:30\, & 7:00
URL:https://stpatricksgretna.org/event/religious-ed-classes/2026-01-28/
LOCATION:Basement Commons / RE Classrooms / Youth Group Room (BS/RE/YG)\, Gretna\, NE\, United States
ORGANIZER;CN="Shane Fagan - Religious Education":MAILTO:smfagan@archomaha.org
END:VEVENT
BEGIN:VEVENT
DTSTART;TZID=America/Chicago:20260125T090000
DTEND;TZID=America/Chicago:20260125T100000
DTSTAMP:20260420T043308
CREATED:20250721T150528Z
LAST-MODIFIED:20250721T150528Z
UID:10083436-1769331600-1769335200@stpatricksgretna.org
SUMMARY:RE Eucharistic Adoration
DESCRIPTION:during class
URL:https://stpatricksgretna.org/event/re-eucharistic-adoration-3/
LOCATION:Sanctuary (S)
ORGANIZER;CN="Shane Fagan - Religious Education":MAILTO:smfagan@archomaha.org
END:VEVENT
BEGIN:VEVENT
DTSTART;TZID=America/Chicago:20260125T085500
DTEND;TZID=America/Chicago:20260125T095500
DTSTAMP:20260420T043308
CREATED:20250721T142253Z
LAST-MODIFIED:20250721T142253Z
UID:10083402-1769331300-1769334900@stpatricksgretna.org
SUMMARY:Religious Ed Classes
DESCRIPTION:RE Classes
URL:https://stpatricksgretna.org/event/religious-ed-classes-2/2026-01-25/
LOCATION:Basement Commons / RE Classrooms / Youth Group Room (BS/RE/YG)\, Gretna\, NE\, United States
ORGANIZER;CN="Shane Fagan - Religious Education":MAILTO:smfagan@archomaha.org
END:VEVENT
BEGIN:VEVENT
DTSTART;TZID=America/Chicago:20260121T160000
DTEND;TZID=America/Chicago:20260121T200000
DTSTAMP:20260420T043308
CREATED:20250721T150258Z
LAST-MODIFIED:20250721T150258Z
UID:10083434-1769011200-1769025600@stpatricksgretna.org
SUMMARY:RE Eucharistic Adoration
DESCRIPTION:at each class 4:00\, 5:30\, 7:00
URL:https://stpatricksgretna.org/event/re-eucharistic-adoration/
LOCATION:Sanctuary (S)
ORGANIZER;CN="Shane Fagan - Religious Education":MAILTO:smfagan@archomaha.org
END:VEVENT
BEGIN:VEVENT
DTSTART;TZID=America/Chicago:20260121T160000
DTEND;TZID=America/Chicago:20260121T200000
DTSTAMP:20260420T043308
CREATED:20250721T141621Z
LAST-MODIFIED:20250721T141621Z
UID:10083373-1769011200-1769025600@stpatricksgretna.org
SUMMARY:Religious Ed Classes
DESCRIPTION:Classes at 4:00\, 5:30\, & 7:00
URL:https://stpatricksgretna.org/event/religious-ed-classes/2026-01-21/
LOCATION:Basement Commons / RE Classrooms / Youth Group Room (BS/RE/YG)\, Gretna\, NE\, United States
ORGANIZER;CN="Shane Fagan - Religious Education":MAILTO:smfagan@archomaha.org
END:VEVENT
BEGIN:VEVENT
DTSTART;TZID=America/Chicago:20260119T090000
DTEND;TZID=America/Chicago:20260119T143000
DTSTAMP:20260420T043308
CREATED:20260113T201520Z
LAST-MODIFIED:20260113T201520Z
UID:10084997-1768813200-1768833000@stpatricksgretna.org
SUMMARY:Confirmation Retreat - downstairs\, pc\, church
DESCRIPTION:8th Graders
URL:https://stpatricksgretna.org/event/confirmation-retreat-downstairs-pc-church/
LOCATION:Sanctuary (S)
ORGANIZER;CN="Shane Fagan - Religious Education":MAILTO:smfagan@archomaha.org
END:VEVENT
BEGIN:VEVENT
DTSTART;TZID=America/Chicago:20260118T085500
DTEND;TZID=America/Chicago:20260118T095500
DTSTAMP:20260420T043308
CREATED:20250721T142253Z
LAST-MODIFIED:20250721T142253Z
UID:10083401-1768726500-1768730100@stpatricksgretna.org
SUMMARY:Religious Ed Classes
DESCRIPTION:RE Classes
URL:https://stpatricksgretna.org/event/religious-ed-classes-2/2026-01-18/
LOCATION:Basement Commons / RE Classrooms / Youth Group Room (BS/RE/YG)\, Gretna\, NE\, United States
ORGANIZER;CN="Shane Fagan - Religious Education":MAILTO:smfagan@archomaha.org
END:VEVENT
BEGIN:VEVENT
DTSTART;TZID=America/Chicago:20260114T160000
DTEND;TZID=America/Chicago:20260114T200000
DTSTAMP:20260420T043308
CREATED:20250721T141621Z
LAST-MODIFIED:20250721T141621Z
UID:10083372-1768406400-1768420800@stpatricksgretna.org
SUMMARY:Religious Ed Classes
DESCRIPTION:Classes at 4:00\, 5:30\, & 7:00
URL:https://stpatricksgretna.org/event/religious-ed-classes/2026-01-14/
LOCATION:Basement Commons / RE Classrooms / Youth Group Room (BS/RE/YG)\, Gretna\, NE\, United States
ORGANIZER;CN="Shane Fagan - Religious Education":MAILTO:smfagan@archomaha.org
END:VEVENT
BEGIN:VEVENT
DTSTART;TZID=America/Chicago:20260111T085500
DTEND;TZID=America/Chicago:20260111T095500
DTSTAMP:20260420T043308
CREATED:20250721T142253Z
LAST-MODIFIED:20250721T142253Z
UID:10083400-1768121700-1768125300@stpatricksgretna.org
SUMMARY:Religious Ed Classes
DESCRIPTION:RE Classes
URL:https://stpatricksgretna.org/event/religious-ed-classes-2/2026-01-11/
LOCATION:Basement Commons / RE Classrooms / Youth Group Room (BS/RE/YG)\, Gretna\, NE\, United States
ORGANIZER;CN="Shane Fagan - Religious Education":MAILTO:smfagan@archomaha.org
END:VEVENT
BEGIN:VEVENT
DTSTART;TZID=America/Chicago:20260107T160000
DTEND;TZID=America/Chicago:20260107T200000
DTSTAMP:20260420T043308
CREATED:20250721T141621Z
LAST-MODIFIED:20250721T141621Z
UID:10083371-1767801600-1767816000@stpatricksgretna.org
SUMMARY:Religious Ed Classes
DESCRIPTION:Classes at 4:00\, 5:30\, & 7:00
URL:https://stpatricksgretna.org/event/religious-ed-classes/2026-01-07/
LOCATION:Basement Commons / RE Classrooms / Youth Group Room (BS/RE/YG)\, Gretna\, NE\, United States
ORGANIZER;CN="Shane Fagan - Religious Education":MAILTO:smfagan@archomaha.org
END:VEVENT
BEGIN:VEVENT
DTSTART;VALUE=DATE:20260104
DTEND;VALUE=DATE:20260105
DTSTAMP:20260420T043308
CREATED:20250721T150023Z
LAST-MODIFIED:20250721T150023Z
UID:10083427-1767484800-1767571199@stpatricksgretna.org
SUMMARY:NO RE CLASSES
DESCRIPTION:No classes
URL:https://stpatricksgretna.org/event/no-re-classes-2/2026-01-04/
LOCATION:Basement Commons / RE Classrooms / Youth Group Room (BS/RE/YG)\, Gretna\, NE\, United States
ORGANIZER;CN="Shane Fagan - Religious Education":MAILTO:smfagan@archomaha.org
END:VEVENT
BEGIN:VEVENT
DTSTART;VALUE=DATE:20251231
DTEND;VALUE=DATE:20260101
DTSTAMP:20260420T043308
CREATED:20250721T150023Z
LAST-MODIFIED:20250721T150023Z
UID:10083426-1767139200-1767225599@stpatricksgretna.org
SUMMARY:NO RE CLASSES
DESCRIPTION:No classes
URL:https://stpatricksgretna.org/event/no-re-classes-2/2025-12-31/
LOCATION:Basement Commons / RE Classrooms / Youth Group Room (BS/RE/YG)\, Gretna\, NE\, United States
ORGANIZER;CN="Shane Fagan - Religious Education":MAILTO:smfagan@archomaha.org
END:VEVENT
BEGIN:VEVENT
DTSTART;VALUE=DATE:20251228
DTEND;VALUE=DATE:20251229
DTSTAMP:20260420T043308
CREATED:20250721T150023Z
LAST-MODIFIED:20250721T150023Z
UID:10083425-1766880000-1766966399@stpatricksgretna.org
SUMMARY:NO RE CLASSES
DESCRIPTION:No classes
URL:https://stpatricksgretna.org/event/no-re-classes-2/2025-12-28/
LOCATION:Basement Commons / RE Classrooms / Youth Group Room (BS/RE/YG)\, Gretna\, NE\, United States
ORGANIZER;CN="Shane Fagan - Religious Education":MAILTO:smfagan@archomaha.org
END:VEVENT
BEGIN:VEVENT
DTSTART;VALUE=DATE:20251224
DTEND;VALUE=DATE:20251225
DTSTAMP:20260420T043308
CREATED:20250721T150023Z
LAST-MODIFIED:20250721T150023Z
UID:10083424-1766534400-1766620799@stpatricksgretna.org
SUMMARY:NO RE CLASSES
DESCRIPTION:No classes
URL:https://stpatricksgretna.org/event/no-re-classes-2/2025-12-24/
LOCATION:Basement Commons / RE Classrooms / Youth Group Room (BS/RE/YG)\, Gretna\, NE\, United States
ORGANIZER;CN="Shane Fagan - Religious Education":MAILTO:smfagan@archomaha.org
END:VEVENT
BEGIN:VEVENT
DTSTART;TZID=America/Chicago:20251221T090000
DTEND;TZID=America/Chicago:20251221T100000
DTSTAMP:20260420T043308
CREATED:20250721T153257Z
LAST-MODIFIED:20250721T153257Z
UID:10083447-1766307600-1766311200@stpatricksgretna.org
SUMMARY:RE Christmas Program
DESCRIPTION:downstairs
URL:https://stpatricksgretna.org/event/re-christmas-program/
LOCATION:Basement Commons (BS)\, Gretna
ORGANIZER;CN="Shane Fagan - Religious Education":MAILTO:smfagan@archomaha.org
END:VEVENT
BEGIN:VEVENT
DTSTART;TZID=America/Chicago:20251221T085500
DTEND;TZID=America/Chicago:20251221T095500
DTSTAMP:20260420T043308
CREATED:20250721T142253Z
LAST-MODIFIED:20250721T142253Z
UID:10083399-1766307300-1766310900@stpatricksgretna.org
SUMMARY:Religious Ed Classes
DESCRIPTION:RE Classes
URL:https://stpatricksgretna.org/event/religious-ed-classes-2/2025-12-21/
LOCATION:Basement Commons / RE Classrooms / Youth Group Room (BS/RE/YG)\, Gretna\, NE\, United States
ORGANIZER;CN="Shane Fagan - Religious Education":MAILTO:smfagan@archomaha.org
END:VEVENT
BEGIN:VEVENT
DTSTART;TZID=America/Chicago:20251217T160000
DTEND;TZID=America/Chicago:20251217T200000
DTSTAMP:20260420T043308
CREATED:20250721T141621Z
LAST-MODIFIED:20250721T141621Z
UID:10083370-1765987200-1766001600@stpatricksgretna.org
SUMMARY:Religious Ed Classes
DESCRIPTION:Classes at 4:00\, 5:30\, & 7:00
URL:https://stpatricksgretna.org/event/religious-ed-classes/2025-12-17/
LOCATION:Basement Commons / RE Classrooms / Youth Group Room (BS/RE/YG)\, Gretna\, NE\, United States
ORGANIZER;CN="Shane Fagan - Religious Education":MAILTO:smfagan@archomaha.org
END:VEVENT
BEGIN:VEVENT
DTSTART;TZID=America/Chicago:20251217T080000
DTEND;TZID=America/Chicago:20251217T170000
DTSTAMP:20260420T043308
CREATED:20250721T145753Z
LAST-MODIFIED:20250721T145753Z
UID:10083423-1765958400-1765990800@stpatricksgretna.org
SUMMARY:Christmas Program and Reception
DESCRIPTION:4:00 and 5:30 in church\, 7:00 downstairs
URL:https://stpatricksgretna.org/event/christmas-program-and-reception/
LOCATION:Sanctuary / Parish Center (all) (S/PC)\, 508 Angus St\, Gretna\, NE\, 68028\, United States
ORGANIZER;CN="Shane Fagan - Religious Education":MAILTO:smfagan@archomaha.org
END:VEVENT
BEGIN:VEVENT
DTSTART;TZID=America/Chicago:20251214T085500
DTEND;TZID=America/Chicago:20251214T095500
DTSTAMP:20260420T043308
CREATED:20250721T142253Z
LAST-MODIFIED:20250721T142253Z
UID:10083398-1765702500-1765706100@stpatricksgretna.org
SUMMARY:Religious Ed Classes
DESCRIPTION:RE Classes
URL:https://stpatricksgretna.org/event/religious-ed-classes-2/2025-12-14/
LOCATION:Basement Commons / RE Classrooms / Youth Group Room (BS/RE/YG)\, Gretna\, NE\, United States
ORGANIZER;CN="Shane Fagan - Religious Education":MAILTO:smfagan@archomaha.org
END:VEVENT
BEGIN:VEVENT
DTSTART;TZID=America/Chicago:20251214T080000
DTEND;TZID=America/Chicago:20251214T170000
DTSTAMP:20260420T043308
CREATED:20250721T153151Z
LAST-MODIFIED:20250721T153151Z
UID:10083446-1765699200-1765731600@stpatricksgretna.org
SUMMARY:RE Christmas Program Practice
DESCRIPTION:downstairs
URL:https://stpatricksgretna.org/event/re-christmas-program-practice-2/
LOCATION:Basement Commons (BS)\, Gretna
ORGANIZER;CN="Shane Fagan - Religious Education":MAILTO:smfagan@archomaha.org
END:VEVENT
BEGIN:VEVENT
DTSTART;TZID=America/Chicago:20251210T160000
DTEND;TZID=America/Chicago:20251210T200000
DTSTAMP:20260420T043308
CREATED:20250721T141621Z
LAST-MODIFIED:20250721T141621Z
UID:10083369-1765382400-1765396800@stpatricksgretna.org
SUMMARY:Religious Ed Classes
DESCRIPTION:Classes at 4:00\, 5:30\, & 7:00
URL:https://stpatricksgretna.org/event/religious-ed-classes/2025-12-10/
LOCATION:Basement Commons / RE Classrooms / Youth Group Room (BS/RE/YG)\, Gretna\, NE\, United States
ORGANIZER;CN="Shane Fagan - Religious Education":MAILTO:smfagan@archomaha.org
END:VEVENT
BEGIN:VEVENT
DTSTART;TZID=America/Chicago:20251210T080000
DTEND;TZID=America/Chicago:20251210T170000
DTSTAMP:20260420T043308
CREATED:20250721T145635Z
LAST-MODIFIED:20250721T145635Z
UID:10083422-1765353600-1765386000@stpatricksgretna.org
SUMMARY:RE Christmas Program Practice
DESCRIPTION:at each class: 4:00\, 5:30
URL:https://stpatricksgretna.org/event/re-christmas-program-practice/
LOCATION:Sanctuary (S)
ORGANIZER;CN="Shane Fagan - Religious Education":MAILTO:smfagan@archomaha.org
END:VEVENT
BEGIN:VEVENT
DTSTART;TZID=America/Chicago:20251207T085500
DTEND;TZID=America/Chicago:20251207T095500
DTSTAMP:20260420T043308
CREATED:20250721T142253Z
LAST-MODIFIED:20250721T142253Z
UID:10083397-1765097700-1765101300@stpatricksgretna.org
SUMMARY:Religious Ed Classes
DESCRIPTION:RE Classes
URL:https://stpatricksgretna.org/event/religious-ed-classes-2/2025-12-07/
LOCATION:Basement Commons / RE Classrooms / Youth Group Room (BS/RE/YG)\, Gretna\, NE\, United States
ORGANIZER;CN="Shane Fagan - Religious Education":MAILTO:smfagan@archomaha.org
END:VEVENT
BEGIN:VEVENT
DTSTART;TZID=America/Chicago:20251203T160000
DTEND;TZID=America/Chicago:20251203T200000
DTSTAMP:20260420T043308
CREATED:20250721T141621Z
LAST-MODIFIED:20250721T141621Z
UID:10083368-1764777600-1764792000@stpatricksgretna.org
SUMMARY:Religious Ed Classes
DESCRIPTION:Classes at 4:00\, 5:30\, & 7:00
URL:https://stpatricksgretna.org/event/religious-ed-classes/2025-12-03/
LOCATION:Basement Commons / RE Classrooms / Youth Group Room (BS/RE/YG)\, Gretna\, NE\, United States
ORGANIZER;CN="Shane Fagan - Religious Education":MAILTO:smfagan@archomaha.org
END:VEVENT
END:VCALENDAR